BEGIN:VCALENDAR
VERSION:2.0
PRODID:-//Santa Barbara County Food Action Network - ECPv6.15.20//NONSGML v1.0//EN
CALSCALE:GREGORIAN
METHOD:PUBLISH
X-ORIGINAL-URL:https://sbcfoodaction.org
X-WR-CALDESC:Events for Santa Barbara County Food Action Network
REFRESH-INTERVAL;VALUE=DURATION:PT1H
X-Robots-Tag:noindex
X-PUBLISHED-TTL:PT1H
BEGIN:VTIMEZONE
TZID:America/Los_Angeles
BEGIN:DAYLIGHT
TZOFFSETFROM:-0800
TZOFFSETTO:-0700
TZNAME:PDT
DTSTART:20200308T100000
END:DAYLIGHT
BEGIN:STANDARD
TZOFFSETFROM:-0700
TZOFFSETTO:-0800
TZNAME:PST
DTSTART:20201101T090000
END:STANDARD
BEGIN:DAYLIGHT
TZOFFSETFROM:-0800
TZOFFSETTO:-0700
TZNAME:PDT
DTSTART:20210314T100000
END:DAYLIGHT
BEGIN:STANDARD
TZOFFSETFROM:-0700
TZOFFSETTO:-0800
TZNAME:PST
DTSTART:20211107T090000
END:STANDARD
BEGIN:DAYLIGHT
TZOFFSETFROM:-0800
TZOFFSETTO:-0700
TZNAME:PDT
DTSTART:20220313T100000
END:DAYLIGHT
BEGIN:STANDARD
TZOFFSETFROM:-0700
TZOFFSETTO:-0800
TZNAME:PST
DTSTART:20221106T090000
END:STANDARD
END:VTIMEZONE
BEGIN:VEVENT
DTSTART;TZID=America/Los_Angeles:20210918T090000
DTEND;TZID=America/Los_Angeles:20210919T150000
DTSTAMP:20260423T014135
CREATED:20210730T163946Z
LAST-MODIFIED:20210730T163946Z
UID:10015718-1631955600-1632063600@sbcfoodaction.org
SUMMARY:Condor’s Hope Community Winegrape Harvest
DESCRIPTION:Join us for a Condor’s Hope Community Winegrape Harvest. We will have 3-4 harvests between August 21st – September 19th. The grapes tell us when they are ready and then we let you know. If you want to be notified when the harvests will be\, sign up on the Contact List.
URL:https://sbcfoodaction.org/community-calendar/condors-hope-community-winegrape-harvest/2021-09-18/
LOCATION:CA
CATEGORIES:Community Activation
ATTACH;FMTTYPE=image/jpeg:https://sbcfoodaction.org/wp-content/uploads/2021/07/unnamed-2.jpg
END:VEVENT
BEGIN:VEVENT
DTSTART;TZID=America/Los_Angeles:20210919T100000
DTEND;TZID=America/Los_Angeles:20210919T140000
DTSTAMP:20260423T014135
CREATED:20210129T175842Z
LAST-MODIFIED:20210430T174722Z
UID:10009424-1632045600-1632060000@sbcfoodaction.org
SUMMARY:Route One Farmers Market
DESCRIPTION:Route One Farmers Market is now offering CalFresh EBT Market Match! \nIn partnership with the Ecology Center\, Route One Farmers Market is excited to support our community by providing a small amount of funds for individuals and families with qualifying incomes to purchase healthy\, locally-grown produce. It also directly supports our farmers\, many of whom have been heavily impacted by the store and restart closures in the recent shut down.
URL:https://sbcfoodaction.org/community-calendar/route-one-farmers-market/2021-09-19/
LOCATION:Route One Farmers Market\, 3745 Constellation Road\, Vandenberg Village\, CA\, 93436\, United States
CATEGORIES:Farmers Market
ATTACH;FMTTYPE=image/jpeg:https://sbcfoodaction.org/wp-content/uploads/2021/01/route1fm-e1611947769709.jpg
ORGANIZER;CN="Route One Farmers Market":MAILTO:info@routeonefarmersmarket.org
END:VEVENT
BEGIN:VEVENT
DTSTART;TZID=America/Los_Angeles:20210919T100000
DTEND;TZID=America/Los_Angeles:20210919T140000
DTSTAMP:20260423T014135
CREATED:20210129T180139Z
LAST-MODIFIED:20210129T180139Z
UID:10009879-1632045600-1632060000@sbcfoodaction.org
SUMMARY:Goleta Farmers Market
DESCRIPTION:Surrounded by a thriving agricultural sector\, this market hosts approximately 45 certified agricultural producers\, with over a dozen traveling less than 10 miles to get to market. There are several high quality certified organic farmers in the immediate area\, harvesting everything from strawberries\, lettuce and tomatoes\, to kale\, corn\, and sweet peas. The Camino Real Marketplace Farmers’ Market in Goleta provides a very family friendly atmosphere. Live music can be heard in the attached food court on most weeks\, with a safe space for the kids to move around and have some fun. There are several excellent eateries to enjoy for those arriving during the brunch and lunch hours.
URL:https://sbcfoodaction.org/community-calendar/goleta-farmers-market/2021-09-19/
LOCATION:Camino Real Marketplace\, 7004 Marketplace Dr\, Goleta\, CA\, 93117\, United States
CATEGORIES:Farmers Market
ATTACH;FMTTYPE=image/jpeg:https://sbcfoodaction.org/wp-content/uploads/2021/01/goletafm.jpg
ORGANIZER;CN="Santa Barbara Certified Farmers Market Association":MAILTO:sbcfma@rain.org
END:VEVENT
BEGIN:VEVENT
DTSTART;TZID=America/Los_Angeles:20210919T100000
DTEND;TZID=America/Los_Angeles:20210919T140000
DTSTAMP:20260423T014135
CREATED:20210730T204957Z
LAST-MODIFIED:20210730T204957Z
UID:10015726-1632045600-1632060000@sbcfoodaction.org
SUMMARY:Route One Farmers Market
DESCRIPTION:Route One Farmers Market sells locally grown produce and hand-crafted goods\, Sundays 10-2. Located just outside the sweet town of Lompoc\, California.
URL:https://sbcfoodaction.org/community-calendar/route-one-farmers-market-2/2021-09-19/
LOCATION:Route 1 Farmers Market\, 3745 Constellation Road\, Lompoc\, California\, 93436
CATEGORIES:Farmers Market
ATTACH;FMTTYPE=image/png:https://sbcfoodaction.org/wp-content/uploads/2021/07/Screen-Shot-2021-07-30-at-1.47.28-PM.png
END:VEVENT
BEGIN:VEVENT
DTSTART;TZID=America/Los_Angeles:20210919T100000
DTEND;TZID=America/Los_Angeles:20210919T180000
DTSTAMP:20260423T014135
CREATED:20210130T071121Z
LAST-MODIFIED:20210130T071121Z
UID:10011546-1632045600-1632074400@sbcfoodaction.org
SUMMARY:Blosser Urban Garden Farm Stand
DESCRIPTION:Blosser Urban Garden’s farm stand was started to encourage customers to visit the place their food is being grown\, harvested\, and packed to provide our local community with access to quality organic produce. They feature a selection of in-season organic produce from our farm as well as local products like honey from Rockfront Ranch and organic coffee from Quintessa Coffee Roasters. On Tuesdays\, there is freshly baked organic bread from @bread.bike.
URL:https://sbcfoodaction.org/community-calendar/blosser-urban-garden-farm-stand/2021-09-19/
LOCATION:CA
CATEGORIES:Farmers Market
ATTACH;FMTTYPE=image/jpeg:https://sbcfoodaction.org/wp-content/uploads/2021/01/blosserug.jpg
END:VEVENT
BEGIN:VEVENT
DTSTART;TZID=America/Los_Angeles:20210919T100000
DTEND;TZID=America/Los_Angeles:20210919T180000
DTSTAMP:20260423T014135
CREATED:20210915T211917Z
LAST-MODIFIED:20210915T212126Z
UID:10015780-1632045600-1632074400@sbcfoodaction.org
SUMMARY:Santa Barbara Blueberries Fall U-Pick
DESCRIPTION:Looking for something to do on the weekend? Come pick fresh\, locally grown berries at Santa Barbara Blueberries to enjoy at home. Starting this week\, they are open every Friday through Sunday for 10 am to 6 pm for picking blackberries and raspberries. Located in the magnificent rolling hills of the Santa Ynez Valley\, Santa Barbara Blueberries at Resoration Oaks Ranch offers a unique U-pick experience. Find out more at: https://www.santabarbarablueberries.com/?.
URL:https://sbcfoodaction.org/community-calendar/santa-barbara-blueberries-fall-u-pick-3/2021-09-19/
LOCATION:CA
END:VEVENT
END:VCALENDAR