BEGIN:VCALENDAR
VERSION:2.0
PRODID:-//Santa Barbara County Food Action Network - ECPv6.15.20//NONSGML v1.0//EN
CALSCALE:GREGORIAN
METHOD:PUBLISH
X-ORIGINAL-URL:https://sbcfoodaction.org
X-WR-CALDESC:Events for Santa Barbara County Food Action Network
REFRESH-INTERVAL;VALUE=DURATION:PT1H
X-Robots-Tag:noindex
X-PUBLISHED-TTL:PT1H
BEGIN:VTIMEZONE
TZID:America/Los_Angeles
BEGIN:DAYLIGHT
TZOFFSETFROM:-0800
TZOFFSETTO:-0700
TZNAME:PDT
DTSTART:20200308T100000
END:DAYLIGHT
BEGIN:STANDARD
TZOFFSETFROM:-0700
TZOFFSETTO:-0800
TZNAME:PST
DTSTART:20201101T090000
END:STANDARD
BEGIN:DAYLIGHT
TZOFFSETFROM:-0800
TZOFFSETTO:-0700
TZNAME:PDT
DTSTART:20210314T100000
END:DAYLIGHT
BEGIN:STANDARD
TZOFFSETFROM:-0700
TZOFFSETTO:-0800
TZNAME:PST
DTSTART:20211107T090000
END:STANDARD
BEGIN:DAYLIGHT
TZOFFSETFROM:-0800
TZOFFSETTO:-0700
TZNAME:PDT
DTSTART:20220313T100000
END:DAYLIGHT
BEGIN:STANDARD
TZOFFSETFROM:-0700
TZOFFSETTO:-0800
TZNAME:PST
DTSTART:20221106T090000
END:STANDARD
END:VTIMEZONE
BEGIN:VEVENT
DTSTART;TZID=America/Los_Angeles:20210924T080000
DTEND;TZID=America/Los_Angeles:20210924T111500
DTSTAMP:20260423T013559
CREATED:20210129T181128Z
LAST-MODIFIED:20230602T201353Z
UID:10012592-1632470400-1632482100@sbcfoodaction.org
SUMMARY:Montecito Farmers Market
DESCRIPTION:The Santa Barbara Certified Farmers’ Market is a fresh produce driven\, outdoor market of over 120 members. The market has been in existence for over 30 years and includes 6 local locations. The markets serve to strengthen the local communities ties and will help to provide weekly events at no cost while enhancing our community’s quality of life. Each week the farmers in the marketplace display a colorful bounty of agricultural products grown right in our backyard. Seasonal diversity is available year round rain or shine.
URL:https://sbcfoodaction.org/community-calendar/montecito-farmers-market-3/2021-09-24/
LOCATION:Montecito Retail Sector\, 1100-1200 blocks of Coast Village Rd\, Montecito\, CA\, 93108\, United States
CATEGORIES:Farmers Market
ATTACH;FMTTYPE=image/jpeg:https://sbcfoodaction.org/wp-content/uploads/2021/01/montfm.jpg
ORGANIZER;CN="Santa Barbara Certified Farmers Market Association":MAILTO:sbcfma@rain.org
END:VEVENT
BEGIN:VEVENT
DTSTART;TZID=America/Los_Angeles:20210924T100000
DTEND;TZID=America/Los_Angeles:20210924T180000
DTSTAMP:20260423T013559
CREATED:20210130T071121Z
LAST-MODIFIED:20210130T071121Z
UID:10011549-1632477600-1632506400@sbcfoodaction.org
SUMMARY:Blosser Urban Garden Farm Stand
DESCRIPTION:Blosser Urban Garden’s farm stand was started to encourage customers to visit the place their food is being grown\, harvested\, and packed to provide our local community with access to quality organic produce. They feature a selection of in-season organic produce from our farm as well as local products like honey from Rockfront Ranch and organic coffee from Quintessa Coffee Roasters. On Tuesdays\, there is freshly baked organic bread from @bread.bike.
URL:https://sbcfoodaction.org/community-calendar/blosser-urban-garden-farm-stand/2021-09-24/
LOCATION:CA
CATEGORIES:Farmers Market
ATTACH;FMTTYPE=image/jpeg:https://sbcfoodaction.org/wp-content/uploads/2021/01/blosserug.jpg
END:VEVENT
BEGIN:VEVENT
DTSTART;TZID=America/Los_Angeles:20210924T100000
DTEND;TZID=America/Los_Angeles:20210924T180000
DTSTAMP:20260423T013559
CREATED:20210915T211917Z
LAST-MODIFIED:20210915T211951Z
UID:10010560-1632477600-1632506400@sbcfoodaction.org
SUMMARY:Santa Barbara Blueberries Fall U-Pick
DESCRIPTION:Looking for something to do on the weekend? Come pick fresh\, locally grown berries at Santa Barbara Blueberries to enjoy at home. Starting this week\, they are open every Friday through Sunday for 10 am to 6 pm for picking blackberries and raspberries. Located in the magnificent rolling hills of the Santa Ynez Valley\, Santa Barbara Blueberries at Resoration Oaks Ranch offers a unique U-pick experience. Find out more at: https://www.santabarbarablueberries.com/?.
URL:https://sbcfoodaction.org/community-calendar/santa-barbara-blueberries-fall-u-pick/2021-09-24/
LOCATION:CA
END:VEVENT
BEGIN:VEVENT
DTSTART;TZID=America/Los_Angeles:20210924T140000
DTEND;TZID=America/Los_Angeles:20210924T180000
DTSTAMP:20260423T013559
CREATED:20210129T181314Z
LAST-MODIFIED:20210129T181314Z
UID:10011183-1632492000-1632506400@sbcfoodaction.org
SUMMARY:Lompoc Farmers Market
DESCRIPTION:Located at Ocean & I Streets in Lompoc\, every Friday from 2-6pm.
URL:https://sbcfoodaction.org/community-calendar/lompoc-farmers-market/2021-09-24/
LOCATION:Old Town Lompoc\, Corner of Ocean Ave & I Street\, Lompoc\, CA\, 93436\, United States
CATEGORIES:Farmers Market
ATTACH;FMTTYPE=:
ORGANIZER;CN="Central Cities Certified Farmers Market Association":MAILTO:cccfm50lj@gmail.com
END:VEVENT
BEGIN:VEVENT
DTSTART;TZID=America/Los_Angeles:20210924T170000
DTEND;TZID=America/Los_Angeles:20210924T190000
DTSTAMP:20260423T013559
CREATED:20210916T171308Z
LAST-MODIFIED:20210916T171308Z
UID:10015787-1632502800-1632510000@sbcfoodaction.org
SUMMARY:Farmer Friday's at White Buffalo
DESCRIPTION:Join the White Buffalo Land Trust team for an evening of farmer-focused conversation! Refreshments will be served\, but you’re welcome to bring your own. Come meet fellow farmers and learn more about what’s happening in agriculture in our region. There will be opportunities to learn more about their flagship farm in Summerland\, but most importantly this is a gathering for connection and strengthennig our collective network. Reserve a ticket today.
URL:https://sbcfoodaction.org/community-calendar/farmer-fridays-at-white-buffalo/
LOCATION:Summerland Farm\, 350 Asegra Rd\, Santa Barbara\, CA\, 93108\, United States
CATEGORIES:Farm Tour
ATTACH;FMTTYPE=image/jpeg:https://sbcfoodaction.org/wp-content/uploads/2021/09/farmer-fridays.jpg
END:VEVENT
END:VCALENDAR