BEGIN:VCALENDAR
VERSION:2.0
PRODID:-//Santa Barbara County Food Action Network - ECPv6.15.20//NONSGML v1.0//EN
CALSCALE:GREGORIAN
METHOD:PUBLISH
X-ORIGINAL-URL:https://sbcfoodaction.org
X-WR-CALDESC:Events for Santa Barbara County Food Action Network
REFRESH-INTERVAL;VALUE=DURATION:PT1H
X-Robots-Tag:noindex
X-PUBLISHED-TTL:PT1H
BEGIN:VTIMEZONE
TZID:America/Los_Angeles
BEGIN:DAYLIGHT
TZOFFSETFROM:-0800
TZOFFSETTO:-0700
TZNAME:PDT
DTSTART:20200308T100000
END:DAYLIGHT
BEGIN:STANDARD
TZOFFSETFROM:-0700
TZOFFSETTO:-0800
TZNAME:PST
DTSTART:20201101T090000
END:STANDARD
BEGIN:DAYLIGHT
TZOFFSETFROM:-0800
TZOFFSETTO:-0700
TZNAME:PDT
DTSTART:20210314T100000
END:DAYLIGHT
BEGIN:STANDARD
TZOFFSETFROM:-0700
TZOFFSETTO:-0800
TZNAME:PST
DTSTART:20211107T090000
END:STANDARD
BEGIN:DAYLIGHT
TZOFFSETFROM:-0800
TZOFFSETTO:-0700
TZNAME:PDT
DTSTART:20220313T100000
END:DAYLIGHT
BEGIN:STANDARD
TZOFFSETFROM:-0700
TZOFFSETTO:-0800
TZNAME:PST
DTSTART:20221106T090000
END:STANDARD
END:VTIMEZONE
BEGIN:VEVENT
DTSTART;TZID=America/Los_Angeles:20210925T060000
DTEND;TZID=America/Los_Angeles:20210925T110000
DTSTAMP:20260423T011700
CREATED:20210326T184024Z
LAST-MODIFIED:20230602T222408Z
UID:10013047-1632549600-1632567600@sbcfoodaction.org
SUMMARY:Saturday Fishermen's Market
DESCRIPTION:Every Saturday head to the City Pier in Santa Barbara Harbor (opposite to Brophy’s) to buy seafood direct from local producers\, 6-11am\, rain or shine.
URL:https://sbcfoodaction.org/community-calendar/saturday-fishermens-market/2021-09-25/
LOCATION:Saturday Fishermen’s Market\, 6 Harbor Way\, Santa Barbara\, CA\, 93109\, United States
CATEGORIES:Farmers Market
ATTACH;FMTTYPE=image/jpeg:https://sbcfoodaction.org/wp-content/uploads/2021/03/046.jpeg
END:VEVENT
BEGIN:VEVENT
DTSTART;TZID=America/Los_Angeles:20210925T083000
DTEND;TZID=America/Los_Angeles:20210925T130000
DTSTAMP:20260423T011700
CREATED:20210129T180553Z
LAST-MODIFIED:20210129T180553Z
UID:10009652-1632558600-1632574800@sbcfoodaction.org
SUMMARY:State & Cota Farmers Market
DESCRIPTION:The Santa Barbara Certified Farmers’ Market is a fresh produce driven\, outdoor market of over 120 members. The market has been in existence for over 30 years and includes 6 local locations. The markets serve to strengthen the local communities ties and will help to provide weekly events at no cost while enhancing our community’s quality of life. Each week the farmers in the marketplace display a colorful bounty of agricultural products grown right in our backyard. Seasonal diversity is available year round rain or shine.
URL:https://sbcfoodaction.org/community-calendar/state-cota-farmers-market/2021-09-25/
LOCATION:Saturday Morning Market\, 119 East Cota Street\, Santa Barbara\, CA\, 93101\, United States
CATEGORIES:Farmers Market
ATTACH;FMTTYPE=image/jpeg:https://sbcfoodaction.org/wp-content/uploads/2021/01/dtsb-fm-e1611947263910.jpg
ORGANIZER;CN="Santa Barbara Certified Farmers Market Association":MAILTO:sbcfma@rain.org
END:VEVENT
BEGIN:VEVENT
DTSTART;TZID=America/Los_Angeles:20210925T100000
DTEND;TZID=America/Los_Angeles:20210925T180000
DTSTAMP:20260423T011700
CREATED:20210130T071121Z
LAST-MODIFIED:20210130T071121Z
UID:10011550-1632564000-1632592800@sbcfoodaction.org
SUMMARY:Blosser Urban Garden Farm Stand
DESCRIPTION:Blosser Urban Garden’s farm stand was started to encourage customers to visit the place their food is being grown\, harvested\, and packed to provide our local community with access to quality organic produce. They feature a selection of in-season organic produce from our farm as well as local products like honey from Rockfront Ranch and organic coffee from Quintessa Coffee Roasters. On Tuesdays\, there is freshly baked organic bread from @bread.bike.
URL:https://sbcfoodaction.org/community-calendar/blosser-urban-garden-farm-stand/2021-09-25/
LOCATION:CA
CATEGORIES:Farmers Market
ATTACH;FMTTYPE=image/jpeg:https://sbcfoodaction.org/wp-content/uploads/2021/01/blosserug.jpg
END:VEVENT
BEGIN:VEVENT
DTSTART;TZID=America/Los_Angeles:20210925T100000
DTEND;TZID=America/Los_Angeles:20210925T180000
DTSTAMP:20260423T011700
CREATED:20210915T211917Z
LAST-MODIFIED:20210915T212044Z
UID:10010568-1632564000-1632592800@sbcfoodaction.org
SUMMARY:Santa Barbara Blueberries Fall U-Pick
DESCRIPTION:Looking for something to do on the weekend? Come pick fresh\, locally grown berries at Santa Barbara Blueberries to enjoy at home. Starting this week\, they are open every Friday through Sunday for 10 am to 6 pm for picking blackberries and raspberries. Located in the magnificent rolling hills of the Santa Ynez Valley\, Santa Barbara Blueberries at Resoration Oaks Ranch offers a unique U-pick experience. Find out more at: https://www.santabarbarablueberries.com/?.
URL:https://sbcfoodaction.org/community-calendar/santa-barbara-blueberries-fall-u-pick-2/2021-09-25/
LOCATION:CA
END:VEVENT
BEGIN:VEVENT
DTSTART;TZID=America/Los_Angeles:20210925T103000
DTEND;TZID=America/Los_Angeles:20210925T120000
DTSTAMP:20260423T011700
CREATED:20210728T023936Z
LAST-MODIFIED:20210728T023936Z
UID:10015588-1632565800-1632571200@sbcfoodaction.org
SUMMARY:Pickling & Fermentation Class with Broken Clock Vinegar Works
DESCRIPTION:Join Broken Clock Vinegar Works for to learn all about the science of fermentation and enjoy a guided step-by-step look at how you pickle and prepare produce for lacto-fermentation. During class enjoy a tasting of their culinary vinegars and shrubs. At the end you will leave with four jars of veggies to take home and enjoy over the next month. Learn more and sign up at the events website.
URL:https://sbcfoodaction.org/community-calendar/pickling-fermentation-class-with-broken-clock-vinegar-works/2021-09-25/
LOCATION:Broken Clock Vinegar Works\, 1210 Mission Dr. Suite 103\, Solvang\, CA\, 93463\, United States
CATEGORIES:Class / Workshop
ATTACH;FMTTYPE=image/png:https://sbcfoodaction.org/wp-content/uploads/2021/07/Screen-Shot-2021-07-27-at-7.30.45-PM.png
END:VEVENT
BEGIN:VEVENT
DTSTART;TZID=America/Los_Angeles:20210925T160000
DTEND;TZID=America/Los_Angeles:20210925T200000
DTSTAMP:20260423T011700
CREATED:20210726T172611Z
LAST-MODIFIED:20210726T172611Z
UID:10015579-1632585600-1632600000@sbcfoodaction.org
SUMMARY:Farm to Table Winemaker Dinner featuring Max Hoetzel of F2 Wines
DESCRIPTION:Join us for a 4-course farm to table dinner featuring winemaker Max Hoetzel of F2 Wines. Chef Ryan Shepard will create dishes harvested freshly from the farm to celebrate the wines while you dine al fresco by the garden.
URL:https://sbcfoodaction.org/community-calendar/farm-to-table-winemaker-dinner-featuring-max-hoetzel-of-f2-wines/
LOCATION:Dare2Dream Farms\, 890 Lasalle Canyon Rd\, Lompoc\, CA\, 93436\, United States
CATEGORIES:Dinner
ATTACH;FMTTYPE=image/png:https://sbcfoodaction.org/wp-content/uploads/2021/07/Screen-Shot-2021-07-26-at-10.25.20-AM.png
END:VEVENT
BEGIN:VEVENT
DTSTART;TZID=America/Los_Angeles:20210925T183000
DTEND;TZID=America/Los_Angeles:20210925T201500
DTSTAMP:20260423T011700
CREATED:20210808T000626Z
LAST-MODIFIED:20210808T001904Z
UID:10010088-1632594600-1632600900@sbcfoodaction.org
SUMMARY:Nutrition for Longevity
DESCRIPTION:Class will review and discuss the many ways to eat for Longevity. Topics include basic nutrition along with Culinary Medicine – foods that contain bioactive ingredients to improve our gut health and decrease inflammation…\nhttps://sbcc.edu/extendedlearning/
URL:https://sbcfoodaction.org/community-calendar/nutrition-for-longevity-2/2021-09-25/
LOCATION:CA
CATEGORIES:Class / Workshop,Free Event
END:VEVENT
END:VCALENDAR