BEGIN:VCALENDAR
VERSION:2.0
PRODID:-//Santa Barbara County Food Action Network - ECPv6.15.20//NONSGML v1.0//EN
CALSCALE:GREGORIAN
METHOD:PUBLISH
X-ORIGINAL-URL:https://sbcfoodaction.org
X-WR-CALDESC:Events for Santa Barbara County Food Action Network
REFRESH-INTERVAL;VALUE=DURATION:PT1H
X-Robots-Tag:noindex
X-PUBLISHED-TTL:PT1H
BEGIN:VTIMEZONE
TZID:America/Los_Angeles
BEGIN:DAYLIGHT
TZOFFSETFROM:-0800
TZOFFSETTO:-0700
TZNAME:PDT
DTSTART:20200308T100000
END:DAYLIGHT
BEGIN:STANDARD
TZOFFSETFROM:-0700
TZOFFSETTO:-0800
TZNAME:PST
DTSTART:20201101T090000
END:STANDARD
BEGIN:DAYLIGHT
TZOFFSETFROM:-0800
TZOFFSETTO:-0700
TZNAME:PDT
DTSTART:20210314T100000
END:DAYLIGHT
BEGIN:STANDARD
TZOFFSETFROM:-0700
TZOFFSETTO:-0800
TZNAME:PST
DTSTART:20211107T090000
END:STANDARD
BEGIN:DAYLIGHT
TZOFFSETFROM:-0800
TZOFFSETTO:-0700
TZNAME:PDT
DTSTART:20220313T100000
END:DAYLIGHT
BEGIN:STANDARD
TZOFFSETFROM:-0700
TZOFFSETTO:-0800
TZNAME:PST
DTSTART:20221106T090000
END:STANDARD
END:VTIMEZONE
BEGIN:VEVENT
DTSTART;TZID=America/Los_Angeles:20210928T100000
DTEND;TZID=America/Los_Angeles:20210928T130000
DTSTAMP:20260423T013419
CREATED:20210129T181351Z
LAST-MODIFIED:20230602T201259Z
UID:10010835-1632823200-1632834000@sbcfoodaction.org
SUMMARY:Orcutt Farmers Market
DESCRIPTION:Open Tuesday’s 10am-1pm\, offering produce\, vegetables\, citrus\, strawberries\, local honey\, fresh eggs\, baked goods\, jams & jellies.
URL:https://sbcfoodaction.org/community-calendar/orcutt-farmers-market-2/2021-09-28/
LOCATION:Orcutt Farmers Market\, 4852 S Bradley Rd\, Santa Maria\, CA\, 93455\, United States
CATEGORIES:Farmers Market
ATTACH;FMTTYPE=image/jpeg:https://sbcfoodaction.org/wp-content/uploads/2021/01/orcuttfm.jpg
ORGANIZER;CN="Central Cities Certified Farmers Market Association":MAILTO:cccfm50lj@gmail.com
END:VEVENT
BEGIN:VEVENT
DTSTART;TZID=America/Los_Angeles:20210928T100000
DTEND;TZID=America/Los_Angeles:20210928T180000
DTSTAMP:20260423T013419
CREATED:20210130T071121Z
LAST-MODIFIED:20210130T071121Z
UID:10011552-1632823200-1632852000@sbcfoodaction.org
SUMMARY:Blosser Urban Garden Farm Stand
DESCRIPTION:Blosser Urban Garden’s farm stand was started to encourage customers to visit the place their food is being grown\, harvested\, and packed to provide our local community with access to quality organic produce. They feature a selection of in-season organic produce from our farm as well as local products like honey from Rockfront Ranch and organic coffee from Quintessa Coffee Roasters. On Tuesdays\, there is freshly baked organic bread from @bread.bike.
URL:https://sbcfoodaction.org/community-calendar/blosser-urban-garden-farm-stand/2021-09-28/
LOCATION:CA
CATEGORIES:Farmers Market
ATTACH;FMTTYPE=image/jpeg:https://sbcfoodaction.org/wp-content/uploads/2021/01/blosserug.jpg
END:VEVENT
BEGIN:VEVENT
DTSTART;TZID=America/Los_Angeles:20210928T144500
DTEND;TZID=America/Los_Angeles:20210928T183000
DTSTAMP:20260423T013419
CREATED:20210129T180722Z
LAST-MODIFIED:20230602T201436Z
UID:10010129-1632840300-1632853800@sbcfoodaction.org
SUMMARY:State St Farmers Market
DESCRIPTION:The Santa Barbara Certified Farmers’ Market is a fresh produce driven\, outdoor market of over 120 members. The market has been in existence for over 30 years and includes 6 local locations. The markets serve to strengthen the local communities ties and will help to provide weekly events at no cost while enhancing our community’s quality of life. Each week the farmers in the marketplace display a colorful bounty of agricultural products grown right in our backyard. Seasonal diversity is available year round rain or shine. \nSituated in the heart of Downtown Santa Barbara\, SBCFM’s second largest weekly certified farmers’ market hosts 50-60 certified agricultural producers on a weekly basis\, depending on the season. Thousands of locals and visitors gather on the open streets of the 600 & 700 blocks of State St. for our most festive weekly farmers’ market. Surrounding restaurants and bars are lively\, and buskers line the sidewalks\, all while our farmers offer their fresh harvests directly to the public.
URL:https://sbcfoodaction.org/community-calendar/state-st-farmers-market-2/2021-09-28/
LOCATION:Downtown State St\, 600-800 blocks of State St\, Santa Barbara\, CA\, 93101\, United States
CATEGORIES:Farmers Market
ATTACH;FMTTYPE=image/jpeg:https://sbcfoodaction.org/wp-content/uploads/2021/01/statestr-e1611947665111.jpg
ORGANIZER;CN="Santa Barbara Certified Farmers Market Association":MAILTO:sbcfma@rain.org
END:VEVENT
BEGIN:VEVENT
DTSTART;TZID=America/Los_Angeles:20210928T150000
DTEND;TZID=America/Los_Angeles:20210928T170000
DTSTAMP:20260423T013419
CREATED:20210922T153547Z
LAST-MODIFIED:20210922T153625Z
UID:10015798-1632841200-1632848400@sbcfoodaction.org
SUMMARY:California Organic Center Weekly Field Day
DESCRIPTION:Please join us for an Organic Field Day at the California Organic Center! We will be hosting small groups of up to 20 people for a tour of the farm\, demonstrations\, and a Q+A with our Chief Scientist Arianna Bozzolo. These field day events are perfect for farmers\, scientists\, and anyone interested in learning more about organic agriculture. \nTo keep groups small\, each event is capped at 20 attendees. This event begins at 3 PM. Learn more and RSVP today.
URL:https://sbcfoodaction.org/community-calendar/15736/2021-09-28/
LOCATION:California Organic Center\, 1014 W. Ventura Blvd.\, Camarillo\, California\, 93010\, United States
CATEGORIES:Discussion/Lecture/Talk,Farm Tour
END:VEVENT
BEGIN:VEVENT
DTSTART;TZID=America/Los_Angeles:20210928T160000
DTEND;TZID=America/Los_Angeles:20210928T173000
DTSTAMP:20260423T013419
CREATED:20210917T180158Z
LAST-MODIFIED:20210917T180158Z
UID:10015789-1632844800-1632850200@sbcfoodaction.org
SUMMARY:Wild Tarantula Trails at Restoration Oaks Ranch
DESCRIPTION:This fall Wild Farm Lands Foundation will lead eight public hikes\, starting on September 28th. Learn more about common California tarantulas. Tickets are $5.00 each. Children 3 and under are free. Limited number of guests per hike and stay separated in family/friend groups as we can. All ages welcome. Learn more and sign up.
URL:https://sbcfoodaction.org/community-calendar/wild-tarantula-trails-at-restoration-oaks-ranch/2021-09-28/
LOCATION:Restoration Oaks Ranch\, 1980 US Highway 101\, Gaviota\, California\, 93117\, United States
END:VEVENT
BEGIN:VEVENT
DTSTART;TZID=America/Los_Angeles:20210928T160000
DTEND;TZID=America/Los_Angeles:20210928T190000
DTSTAMP:20260423T013419
CREATED:20210810T220408Z
LAST-MODIFIED:20210810T220408Z
UID:10010322-1632844800-1632855600@sbcfoodaction.org
SUMMARY:Small Scale Food Production Class (Free)
DESCRIPTION:Join SBCC School of Extended Learning for an eight week free online Small Scale food Production class. This class will take place every Tuesdays from 4-7 PM on zoom starting September 21-November 9. Students will learn everything they need to know about growing a wide range of season-appropriate vegetables and fruit with a focus on peak harvest for maximum nutrient density.  Students will learn a comprehensive history of home gardening as well as important techniques such as seed saving and food storage. Learn more and register.
URL:https://sbcfoodaction.org/community-calendar/small-scale-food-production-class-free/2021-09-28/
LOCATION:Zoom
CATEGORIES:Class / Workshop
END:VEVENT
END:VCALENDAR