BEGIN:VCALENDAR
VERSION:2.0
PRODID:-//Santa Barbara County Food Action Network - ECPv6.15.20//NONSGML v1.0//EN
CALSCALE:GREGORIAN
METHOD:PUBLISH
X-ORIGINAL-URL:https://sbcfoodaction.org
X-WR-CALDESC:Events for Santa Barbara County Food Action Network
REFRESH-INTERVAL;VALUE=DURATION:PT1H
X-Robots-Tag:noindex
X-PUBLISHED-TTL:PT1H
BEGIN:VTIMEZONE
TZID:America/Los_Angeles
BEGIN:DAYLIGHT
TZOFFSETFROM:-0800
TZOFFSETTO:-0700
TZNAME:PDT
DTSTART:20200308T100000
END:DAYLIGHT
BEGIN:STANDARD
TZOFFSETFROM:-0700
TZOFFSETTO:-0800
TZNAME:PST
DTSTART:20201101T090000
END:STANDARD
BEGIN:DAYLIGHT
TZOFFSETFROM:-0800
TZOFFSETTO:-0700
TZNAME:PDT
DTSTART:20210314T100000
END:DAYLIGHT
BEGIN:STANDARD
TZOFFSETFROM:-0700
TZOFFSETTO:-0800
TZNAME:PST
DTSTART:20211107T090000
END:STANDARD
BEGIN:DAYLIGHT
TZOFFSETFROM:-0800
TZOFFSETTO:-0700
TZNAME:PDT
DTSTART:20220313T100000
END:DAYLIGHT
BEGIN:STANDARD
TZOFFSETFROM:-0700
TZOFFSETTO:-0800
TZNAME:PST
DTSTART:20221106T090000
END:STANDARD
END:VTIMEZONE
BEGIN:VEVENT
DTSTART;TZID=America/Los_Angeles:20211011T170000
DTEND;TZID=America/Los_Angeles:20211011T190000
DTSTAMP:20260425T095624
CREATED:20211008T005948Z
LAST-MODIFIED:20211008T005948Z
UID:10015810-1633971600-1633978800@sbcfoodaction.org
SUMMARY:UCSB Thrive CalFresh Enrollment Party
DESCRIPTION:Come join UCSB Thrive for their CalFresh Enrollment Party! Advocates will be there to help you and your friends through the whole application process of applying for benefits to buy groceries. Bring your friends\, roommates\, and anyone you know who’s interested in applying for CalFresh — everyone is welcome to join! Don’t miss out on this opportunity to learn more about CalFresh and apply! \nMonday\, October 11th 5PM-7Pm @ Corwin Pavilion located near the Multicultural Center \nPre-register for Cal Fresh Enrollment Party.
URL:https://sbcfoodaction.org/community-calendar/ucsb-thrive-calfresh-enrollment-party/
LOCATION:Corwin Pavilion
CATEGORIES:Discussion/Lecture/Talk,Food Security,Free Event
ATTACH;FMTTYPE=image/png:https://sbcfoodaction.org/wp-content/uploads/2021/10/Screen-Shot-2021-10-07-at-5.55.13-PM.png
END:VEVENT
END:VCALENDAR