BEGIN:VCALENDAR
VERSION:2.0
PRODID:-//Santa Barbara County Food Action Network - ECPv6.15.20//NONSGML v1.0//EN
CALSCALE:GREGORIAN
METHOD:PUBLISH
X-ORIGINAL-URL:https://sbcfoodaction.org
X-WR-CALDESC:Events for Santa Barbara County Food Action Network
REFRESH-INTERVAL;VALUE=DURATION:PT1H
X-Robots-Tag:noindex
X-PUBLISHED-TTL:PT1H
BEGIN:VTIMEZONE
TZID:America/Los_Angeles
BEGIN:DAYLIGHT
TZOFFSETFROM:-0800
TZOFFSETTO:-0700
TZNAME:PDT
DTSTART:20200308T100000
END:DAYLIGHT
BEGIN:STANDARD
TZOFFSETFROM:-0700
TZOFFSETTO:-0800
TZNAME:PST
DTSTART:20201101T090000
END:STANDARD
BEGIN:DAYLIGHT
TZOFFSETFROM:-0800
TZOFFSETTO:-0700
TZNAME:PDT
DTSTART:20210314T100000
END:DAYLIGHT
BEGIN:STANDARD
TZOFFSETFROM:-0700
TZOFFSETTO:-0800
TZNAME:PST
DTSTART:20211107T090000
END:STANDARD
BEGIN:DAYLIGHT
TZOFFSETFROM:-0800
TZOFFSETTO:-0700
TZNAME:PDT
DTSTART:20220313T100000
END:DAYLIGHT
BEGIN:STANDARD
TZOFFSETFROM:-0700
TZOFFSETTO:-0800
TZNAME:PST
DTSTART:20221106T090000
END:STANDARD
END:VTIMEZONE
BEGIN:VEVENT
DTSTART;TZID=America/Los_Angeles:20211023T060000
DTEND;TZID=America/Los_Angeles:20211023T110000
DTSTAMP:20260425T130340
CREATED:20210326T184024Z
LAST-MODIFIED:20230602T222408Z
UID:10013051-1634968800-1634986800@sbcfoodaction.org
SUMMARY:Saturday Fishermen's Market
DESCRIPTION:Every Saturday head to the City Pier in Santa Barbara Harbor (opposite to Brophy’s) to buy seafood direct from local producers\, 6-11am\, rain or shine.
URL:https://sbcfoodaction.org/community-calendar/saturday-fishermens-market/2021-10-23/
LOCATION:Saturday Fishermen’s Market\, 6 Harbor Way\, Santa Barbara\, CA\, 93109\, United States
CATEGORIES:Farmers Market
ATTACH;FMTTYPE=image/jpeg:https://sbcfoodaction.org/wp-content/uploads/2021/03/046.jpeg
END:VEVENT
BEGIN:VEVENT
DTSTART;TZID=America/Los_Angeles:20211023T083000
DTEND;TZID=America/Los_Angeles:20211023T130000
DTSTAMP:20260425T130340
CREATED:20210129T180553Z
LAST-MODIFIED:20210129T180553Z
UID:10009656-1634977800-1634994000@sbcfoodaction.org
SUMMARY:State & Cota Farmers Market
DESCRIPTION:The Santa Barbara Certified Farmers’ Market is a fresh produce driven\, outdoor market of over 120 members. The market has been in existence for over 30 years and includes 6 local locations. The markets serve to strengthen the local communities ties and will help to provide weekly events at no cost while enhancing our community’s quality of life. Each week the farmers in the marketplace display a colorful bounty of agricultural products grown right in our backyard. Seasonal diversity is available year round rain or shine.
URL:https://sbcfoodaction.org/community-calendar/state-cota-farmers-market/2021-10-23/
LOCATION:Saturday Morning Market\, 119 East Cota Street\, Santa Barbara\, CA\, 93101\, United States
CATEGORIES:Farmers Market
ATTACH;FMTTYPE=image/jpeg:https://sbcfoodaction.org/wp-content/uploads/2021/01/dtsb-fm-e1611947263910.jpg
ORGANIZER;CN="Santa Barbara Certified Farmers Market Association":MAILTO:sbcfma@rain.org
END:VEVENT
BEGIN:VEVENT
DTSTART;TZID=America/Los_Angeles:20211023T100000
DTEND;TZID=America/Los_Angeles:20211023T170000
DTSTAMP:20260425T130340
CREATED:20211020T184920Z
LAST-MODIFIED:20211020T184920Z
UID:10015812-1634983200-1635008400@sbcfoodaction.org
SUMMARY:2nd Annual California Seaweed Festival
DESCRIPTION:The 2nd California Seaweed Festival 2021 is coming up on Oct 23rd from 10 am to 5 pm. This festival brings seaweed farmers\, scientists\, artists and entrepreneurs together to showcase how to use and enjoy seaweed on the California Coast. Learn more and reserve a ticket.
URL:https://sbcfoodaction.org/community-calendar/2nd-annual-california-seaweed-festival/
LOCATION:Santa Barbara City College\, 721 Cliff Drive\, Santa Barbara\, 93109\, United States
ATTACH;FMTTYPE=image/png:https://sbcfoodaction.org/wp-content/uploads/2021/10/California-Seaweed-Festival.png
END:VEVENT
BEGIN:VEVENT
DTSTART;TZID=America/Los_Angeles:20211023T100000
DTEND;TZID=America/Los_Angeles:20211023T180000
DTSTAMP:20260425T130340
CREATED:20210130T071121Z
LAST-MODIFIED:20210130T071121Z
UID:10011570-1634983200-1635012000@sbcfoodaction.org
SUMMARY:Blosser Urban Garden Farm Stand
DESCRIPTION:Blosser Urban Garden’s farm stand was started to encourage customers to visit the place their food is being grown\, harvested\, and packed to provide our local community with access to quality organic produce. They feature a selection of in-season organic produce from our farm as well as local products like honey from Rockfront Ranch and organic coffee from Quintessa Coffee Roasters. On Tuesdays\, there is freshly baked organic bread from @bread.bike.
URL:https://sbcfoodaction.org/community-calendar/blosser-urban-garden-farm-stand/2021-10-23/
LOCATION:CA
CATEGORIES:Farmers Market
ATTACH;FMTTYPE=image/jpeg:https://sbcfoodaction.org/wp-content/uploads/2021/01/blosserug.jpg
END:VEVENT
BEGIN:VEVENT
DTSTART;TZID=America/Los_Angeles:20211023T100000
DTEND;TZID=America/Los_Angeles:20211023T180000
DTSTAMP:20260425T130340
CREATED:20210915T211917Z
LAST-MODIFIED:20210915T212044Z
UID:10010572-1634983200-1635012000@sbcfoodaction.org
SUMMARY:Santa Barbara Blueberries Fall U-Pick
DESCRIPTION:Looking for something to do on the weekend? Come pick fresh\, locally grown berries at Santa Barbara Blueberries to enjoy at home. Starting this week\, they are open every Friday through Sunday for 10 am to 6 pm for picking blackberries and raspberries. Located in the magnificent rolling hills of the Santa Ynez Valley\, Santa Barbara Blueberries at Resoration Oaks Ranch offers a unique U-pick experience. Find out more at: https://www.santabarbarablueberries.com/?.
URL:https://sbcfoodaction.org/community-calendar/santa-barbara-blueberries-fall-u-pick-2/2021-10-23/
LOCATION:CA
END:VEVENT
BEGIN:VEVENT
DTSTART;TZID=America/Los_Angeles:20211023T120000
DTEND;TZID=America/Los_Angeles:20211023T125000
DTSTAMP:20260425T130340
CREATED:20211005T153817Z
LAST-MODIFIED:20211005T153817Z
UID:10015809-1634990400-1634993400@sbcfoodaction.org
SUMMARY:Making the Most of Small Spaces for Gardens
DESCRIPTION:Join Edible Campus Program for a workshop centered around gardening with limited space— specifically for students and community members with little available room for large gardens! No gardening experience is required for this introductory workshop. UCSB students and non-UCSB community members are welcome to apply! Learn more and apply.
URL:https://sbcfoodaction.org/community-calendar/making-the-most-of-small-spaces-for-gardens/
LOCATION:CA
CATEGORIES:Class / Workshop
END:VEVENT
BEGIN:VEVENT
DTSTART;TZID=America/Los_Angeles:20211023T130000
DTEND;TZID=America/Los_Angeles:20211023T160000
DTSTAMP:20260425T130340
CREATED:20211020T184433Z
LAST-MODIFIED:20211020T184433Z
UID:10015811-1634994000-1635004800@sbcfoodaction.org
SUMMARY:Santa Barbara Lobster Fest
DESCRIPTION:Join Get Hooked Seafood for the Santa Barbara Lobster Fest on Saturday\, October 23\, 2021 from 1:00-4:00 pm. Celebrate the opening of California Spiny Lobster season with food\, drink\, music and live lobster for purchase. Proceeds will be donated to Commercial Fisherman of Santa Barbara\, a port non-profit working to make our local fishing community resilient and effective. Learn more and reserve a ticket.
URL:https://sbcfoodaction.org/community-calendar/santa-barbara-lobster-fest/
LOCATION:CA
ATTACH;FMTTYPE=image/jpeg:https://sbcfoodaction.org/wp-content/uploads/2021/10/246996492_409278834110024_8153681081044673105_n.jpg
END:VEVENT
END:VCALENDAR