BEGIN:VCALENDAR
VERSION:2.0
PRODID:-//Santa Barbara County Food Action Network - ECPv6.15.20//NONSGML v1.0//EN
CALSCALE:GREGORIAN
METHOD:PUBLISH
X-ORIGINAL-URL:https://sbcfoodaction.org
X-WR-CALDESC:Events for Santa Barbara County Food Action Network
REFRESH-INTERVAL;VALUE=DURATION:PT1H
X-Robots-Tag:noindex
X-PUBLISHED-TTL:PT1H
BEGIN:VTIMEZONE
TZID:America/Los_Angeles
BEGIN:DAYLIGHT
TZOFFSETFROM:-0800
TZOFFSETTO:-0700
TZNAME:PDT
DTSTART:20180311T100000
END:DAYLIGHT
BEGIN:STANDARD
TZOFFSETFROM:-0700
TZOFFSETTO:-0800
TZNAME:PST
DTSTART:20181104T090000
END:STANDARD
BEGIN:DAYLIGHT
TZOFFSETFROM:-0800
TZOFFSETTO:-0700
TZNAME:PDT
DTSTART:20190310T100000
END:DAYLIGHT
BEGIN:STANDARD
TZOFFSETFROM:-0700
TZOFFSETTO:-0800
TZNAME:PST
DTSTART:20191103T090000
END:STANDARD
BEGIN:DAYLIGHT
TZOFFSETFROM:-0800
TZOFFSETTO:-0700
TZNAME:PDT
DTSTART:20200308T100000
END:DAYLIGHT
BEGIN:STANDARD
TZOFFSETFROM:-0700
TZOFFSETTO:-0800
TZNAME:PST
DTSTART:20201101T090000
END:STANDARD
BEGIN:DAYLIGHT
TZOFFSETFROM:-0800
TZOFFSETTO:-0700
TZNAME:PDT
DTSTART:20210314T100000
END:DAYLIGHT
BEGIN:STANDARD
TZOFFSETFROM:-0700
TZOFFSETTO:-0800
TZNAME:PST
DTSTART:20211107T090000
END:STANDARD
BEGIN:DAYLIGHT
TZOFFSETFROM:-0800
TZOFFSETTO:-0700
TZNAME:PDT
DTSTART:20220313T100000
END:DAYLIGHT
BEGIN:STANDARD
TZOFFSETFROM:-0700
TZOFFSETTO:-0800
TZNAME:PST
DTSTART:20221106T090000
END:STANDARD
BEGIN:DAYLIGHT
TZOFFSETFROM:-0800
TZOFFSETTO:-0700
TZNAME:PDT
DTSTART:20230312T100000
END:DAYLIGHT
BEGIN:STANDARD
TZOFFSETFROM:-0700
TZOFFSETTO:-0800
TZNAME:PST
DTSTART:20231105T090000
END:STANDARD
BEGIN:DAYLIGHT
TZOFFSETFROM:-0800
TZOFFSETTO:-0700
TZNAME:PDT
DTSTART:20240310T100000
END:DAYLIGHT
BEGIN:STANDARD
TZOFFSETFROM:-0700
TZOFFSETTO:-0800
TZNAME:PST
DTSTART:20241103T090000
END:STANDARD
END:VTIMEZONE
BEGIN:VEVENT
DTSTART;TZID=America/Los_Angeles:20231018T150000
DTEND;TZID=America/Los_Angeles:20231018T180000
DTSTAMP:20260423T134656
CREATED:20231004T222159Z
LAST-MODIFIED:20231019T202220Z
UID:10016250-1697641200-1697652000@sbcfoodaction.org
SUMMARY:2023 Central Coast Farmer Gathering  ||  2023 Reunión de agricultores de la Costa Central
DESCRIPTION:[vc_row column_spacing=”60″][vc_column width=”2/3″][vc_column_text]\nWednesday\, October 18 2023\nMiércoles\, 18 de Octubre 2023\n3:00 – 6:00 p.m.\nSanta Ynez VALLEY Grange Hall\n2374 Alamo Pintado AVE\, Los Olivos CA\n[/vc_column_text][vc_separator color=”black” css=”.vc_custom_1695153642050{padding-top: 15px !important;padding-bottom: 15px !important;}”][vc_column_text]Aspiring and current farmers\, ranchers\, and food producers are invited to celebrate policy wins informed by you over the last two years. Contribute thought leadership on policies for 2024 and beyond\, while learning about program resources from the county and state. The intention of this event is to provide a space for convening conversations around how you can directly affect policy and systems change\, while at the same time learning about resources and opportunities available to you. The last hour will feature a networking dinner with refreshments. \nLos agricultores\, ganaderos y productores de alimentos aspirantes y actuales están invitados a celebrar los logros políticos informados por usted durante los últimos dos años. Contribuya con liderazgo intelectual sobre políticas para 2024 y más allá\, mientras aprende sobre los recursos del programa del condado y el estado. La intención de este evento es brindar un espacio para convocar conversaciones sobre cómo usted puede afectar directamente el cambio de políticas y sistemas\, y al mismo tiempo aprender sobre los recursos y oportunidades disponibles para usted. La última hora contará con una cena networking con refrigerio.[/vc_column_text][/vc_column][vc_column width=”1/3″][vc_column_text]\nPRESENTED BY | PRESENTADO POR \nCOMMUNITY ALLIANCE WITH FAMILY FARMERS (CAFF) & SANTA BARBARA COUNTY FOOD ACTION NETWORK (SBCFAN)\n[/vc_column_text][vc_single_image image=”26100″ onclick=”custom_link” img_link_target=”_blank” link=”https://caff.org/”][vc_single_image image=”26101″ onclick=”custom_link” link=”https://sbcfoodaction.wpengine.com/#current-work”][/vc_column][/vc_row][vc_row][vc_column][vc_raw_html]JTNDc3R5bGUlM0UlMEEucGFnZS1oZWFkZXIlMjAlN0JkaXNwbGF5JTNBbm9uZSUyMCUyMWltcG9ydGFudCUzQiU3RCUwQSUzQyUyRnN0eWxlJTNF[/vc_raw_html][/vc_column][/vc_row]
URL:https://sbcfoodaction.org/community-calendar/2023-the-central-coast-farmer-gathering-2023-reunion-de-agricultores-de-la-costa-central/
CATEGORIES:Community Activation,Dinner,Discussion/Lecture/Talk
ATTACH;FMTTYPE=image/jpeg:https://sbcfoodaction.org/wp-content/uploads/2023/09/2022-farmer-gathering-e1695152140423.jpg
END:VEVENT
BEGIN:VEVENT
DTSTART;VALUE=DATE:20230527
DTEND;VALUE=DATE:20230530
DTSTAMP:20260423T134656
CREATED:20230313T015251Z
LAST-MODIFIED:20230313T015341Z
UID:10015710-1685145600-1685404799@sbcfoodaction.org
SUMMARY:Condor's Hope Memorial Weekend Spring Work Party
DESCRIPTION:Come for the whole 3-day weekend\, or for part of it. There are lots of spring projects in the vineyard. We provide all of the food including a ranch barbecue and a wonderful wine-tasting. There is beautiful camping in the vineyard and some indoor accommodations as well. There is no fee\, but registration is required. We hope you can join us! \nFamilies are welcome! Sorry\, we do not allow additional dogs at the vineyard. \nOur current Covid protocol recommends all participants and our hosting team to be fully vaccinated and we require all to take a home Covid test upon arrival. \nReservations will be taken as they are received. Space is limited\, so reserve your spot soon. \n 
URL:https://sbcfoodaction.org/community-calendar/24817/
LOCATION:Condor’s Hope Ranch\, 12340 Foothill Rd\, New Cuyama\, CA\, 93254\, United States
CATEGORIES:Community Activation,Dinner,Farm Tour,Free Event
ATTACH;FMTTYPE=image/jpeg:https://sbcfoodaction.org/wp-content/uploads/2023/03/6a942a74-8bfd-40d9-3706-4c945197d46e.jpeg
END:VEVENT
BEGIN:VEVENT
DTSTART;VALUE=DATE:20230505
DTEND;VALUE=DATE:20230508
DTSTAMP:20260423T134656
CREATED:20230313T014658Z
LAST-MODIFIED:20230313T014658Z
UID:10015709-1683244800-1683503999@sbcfoodaction.org
SUMMARY:Condor's Hope Yoga in the Vineyard
DESCRIPTION:A rejuvenating weekend of movement\, relaxation & wine among the grapevines and olive trees of Condor’s Hope Ranch.\nRelax with us for a weekend of yoga led by instructor Susan Merritt\, wine tasting\, locally-sourced foods and fresh air in our vineyard in the foothills of the Sierra Madre Mountains.\nNew this year: We are happy to welcome Karen Jaffe who will surround us with sound baths as part of our yoga sessions and as a separate session as well.\nConveniently located in the middle of nowhere\, Condor’s Hope Ranch sits in the foothills of the Sierra Madre Mountains\, near Hwy 166 in the Cuyama Valley in Northern Santa Barbara County. Our 5 acre vineyard is in a natural setting adjacent to the Los Padres National Forest. We are off the grid and completely solar powered. \nRegistration is limited. To register please complete and submit the form below.
URL:https://sbcfoodaction.org/community-calendar/condors-hope-yoga-in-the-vineyard/
LOCATION:Condor’s Hope Ranch\, 12340 Foothill Rd\, New Cuyama\, CA\, 93254\, United States
CATEGORIES:Dinner,Farm Tour
ATTACH;FMTTYPE=image/jpeg:https://sbcfoodaction.org/wp-content/uploads/2023/03/efd32a2d-4dfc-a1f0-e7ec-37a9db6d8622-1.jpeg
END:VEVENT
BEGIN:VEVENT
DTSTART;VALUE=DATE:20230426
DTEND;VALUE=DATE:20230501
DTSTAMP:20260423T134656
CREATED:20230301T203457Z
LAST-MODIFIED:20230301T203457Z
UID:10016122-1682467200-1682899199@sbcfoodaction.org
SUMMARY:2023 Santa Barbara Fair and Expo - Barrels of Fun
DESCRIPTION:Santa Barbara Fair and Expo invites the community to get ready for Barrels of Fun as the annual event rolls out Wednesday\, April 26 and runs to Sunday\, April 30 at Earl Warren Showgrounds. The theme Barrels of Fun is a nod to the local fun lifestyle and a reminder to fair-goers to enjoy life. \nThe high-energy Carnival Midway features rides\, games of chance\, and traditional fair food. \nAt the kid-popular farm animal exhibits\, children can learn the basics about the animals on display\, as well as about agriculture\, which is one of the leading industries on the Central Coast. \nAs always\, entertainment abounds at the fair with highlights such as mysterious magic and charming hypnotism performances every day; and Santa Barbara area entertainers\, who are a staple of the Fair and Expo. \nIn addition to local entertainers appearing on stage\, talented Santa Barbara artists in the Exhibit Building will demonstrate their work and explain their techniques. \nFor Fair & Expo information and to learn how to participate as a vendor\, exhibitor\, entertainer or volunteer at the 2023 Santa Barbara Fair and Expo\, visit www.earlwarren.com or call 805-687-0766.
URL:https://sbcfoodaction.org/community-calendar/2023-santa-barbara-fair-and-expo-barrels-of-fun/
LOCATION:Earl Warren Showgrounds\, 3400 Calle Real\, Santa Barbara\, CA\, 93105\, United States
CATEGORIES:Community Activation,Dinner
END:VEVENT
BEGIN:VEVENT
DTSTART;VALUE=DATE:20230405
DTEND;VALUE=DATE:20230406
DTSTAMP:20260423T134656
CREATED:20230328T195059Z
LAST-MODIFIED:20230328T204535Z
UID:10015713-1680652800-1680739199@sbcfoodaction.org
SUMMARY:Long Beach Fresh Foodways Summit 2023
DESCRIPTION:Spring Foodways Summit is a weekend of events: tours\, panels and parties that celebrate and explore the local food movement in Long Beach\, CA. \nOUR OBJECTIVE\nTo gather and connect the local food movement together and with new partners\, storytellers\, farmers\, gardeners\, helpers\, leaders\, investors\, chefs\, food brands\, educators\, food buyers & distributors\, health professionals\, residents\, seniors\, youth\, organizations\, students\, newbies\, partners and supporters. \nYOUR EXPERIENCE\nAt each Foodways Summit event\, you can expect to taste something\, visit somewhere\, meet somebody\, learn something and share something. \n​Pick the events that look the most interesting to you and RSVP. If you need help figuring out what might be the most valuable experience for you\, contact us. \n 
URL:https://sbcfoodaction.org/community-calendar/long-beach-fresh-foodways-summit-2023/
CATEGORIES:Class / Workshop,Community Activation,Dinner,Discussion/Lecture/Talk,Food Security
ATTACH;FMTTYPE=image/png:https://sbcfoodaction.org/wp-content/uploads/2023/03/your-paragraph-text-2_orig.png
ORGANIZER;CN="Long Beach Fresh":MAILTO:hello@lbfresh.org
END:VEVENT
BEGIN:VEVENT
DTSTART;TZID=America/Los_Angeles:20230401T120000
DTEND;TZID=America/Los_Angeles:20230401T170000
DTSTAMP:20260423T134656
CREATED:20230313T013403Z
LAST-MODIFIED:20230313T014930Z
UID:10015707-1680350400-1680368400@sbcfoodaction.org
SUMMARY:Condor's Hope Spring Wildflowers & Wine
DESCRIPTION:We invite you to experience the splendor of the wildflowers and enjoy a barbecue luncheon at our vineyard. After the January rains the waiting native flower seeds have started to sprout and emerge. Join us for  a nature walk and botany lessons with Condor’s Hope’s co-owner and California natural history expert\, Steve Gliessman. \n  \nCost:\n• $80 per person\n• $65 per person for wine club members\n• $65 for Cuyama residents & youth \nA portion of the proceeds will be donated to Los Padres Forest Watch for their work to preserve and conserve the Los Padres National Forest and habitat for condors. \nSpace is limited. We encourage you to make your reservations now by completing the registration below. \nMake a weekend of it! Spend the night at Condor’s Hope or the Cuyama Buckhorn\, and visit the Carrizo Plain on Sunday. \nUnfortunately\, we are unable to accommodate additional dogs at the vineyard. \nQuestions? Please contact us at events@condorshope.com  \nSpace is limited. \nRegistration will be open from now until March 1st for Club Condor Members. Non-wine club members may register now\, but will be added to a waitlist until March 1st. If there are available spots\, registration will be “first come first serve” from the waitlist. \n* Overnight accommodations are available at Condor’s Hope Ranch\, as well as the Cuyama Buckhorn\, a local inn offering a 10% discount for Wine & Wildflower guests\, using the promo code CONDORSHOPE2023 when reserving your room. Please see more information on the registration form.
URL:https://sbcfoodaction.org/community-calendar/spring-wildflowers-wine/
LOCATION:Condor’s Hope Ranch\, 12340 Foothill Rd\, New Cuyama\, CA\, 93254\, United States
CATEGORIES:Dinner,Farm Tour
ATTACH;FMTTYPE=image/jpeg:https://sbcfoodaction.org/wp-content/uploads/2023/03/cb000f3d-1303-120a-2088-8330f61e7cef.jpeg
END:VEVENT
BEGIN:VEVENT
DTSTART;TZID=America/Los_Angeles:20220619T180000
DTEND;TZID=America/Los_Angeles:20220619T210000
DTSTAMP:20260423T134656
CREATED:20220524T225956Z
LAST-MODIFIED:20220524T225956Z
UID:10016059-1655661600-1655672400@sbcfoodaction.org
SUMMARY:Fishermen for Ukraine
DESCRIPTION:Save the date for Sunday\, June 19th 2022 for an event benefitting World Central Kitchen – An organization that prepares meals for Ukrainian refugees. Please join us for this special evening at the Santa Barbara Maritime Museum including drinks\, dinner\, and a live auction hosted by John Palminteri. Chef Katie Teall will be preparing a delicious meal with seafood provided by our local commercial fishermen. Learn more and reserve a ticket today.
URL:https://sbcfoodaction.org/community-calendar/fishermen-for-ukraine/
CATEGORIES:Dinner,Fundraiser
ATTACH;FMTTYPE=image/jpeg:https://sbcfoodaction.org/wp-content/uploads/2022/05/https-cdn.evbuc_.com-images-271742339-906457745543-1-original.20220423-015051.jpeg
END:VEVENT
BEGIN:VEVENT
DTSTART;TZID=America/Los_Angeles:20210925T160000
DTEND;TZID=America/Los_Angeles:20210925T200000
DTSTAMP:20260423T134656
CREATED:20210726T172611Z
LAST-MODIFIED:20210726T172611Z
UID:10015579-1632585600-1632600000@sbcfoodaction.org
SUMMARY:Farm to Table Winemaker Dinner featuring Max Hoetzel of F2 Wines
DESCRIPTION:Join us for a 4-course farm to table dinner featuring winemaker Max Hoetzel of F2 Wines. Chef Ryan Shepard will create dishes harvested freshly from the farm to celebrate the wines while you dine al fresco by the garden.
URL:https://sbcfoodaction.org/community-calendar/farm-to-table-winemaker-dinner-featuring-max-hoetzel-of-f2-wines/
LOCATION:Dare2Dream Farms\, 890 Lasalle Canyon Rd\, Lompoc\, CA\, 93436\, United States
CATEGORIES:Dinner
ATTACH;FMTTYPE=image/png:https://sbcfoodaction.org/wp-content/uploads/2021/07/Screen-Shot-2021-07-26-at-10.25.20-AM.png
END:VEVENT
BEGIN:VEVENT
DTSTART;TZID=America/Los_Angeles:20210820T183000
DTEND;TZID=America/Los_Angeles:20210820T203000
DTSTAMP:20260423T134656
CREATED:20210802T152334Z
LAST-MODIFIED:20210802T152334Z
UID:10015777-1629484200-1629491400@sbcfoodaction.org
SUMMARY:Sproutcraft Creamery Summer Dinner 2x2
DESCRIPTION:Join us on August 20th\, 2021 from 6:30 pm onward\, as we come together in Carpinteria\, California at the home of Santa Barbara Hives. Santa Barbara Hives is a bee store with local honey\, honeycomb\, soaps\, candles\, local artists\, jewelers and artisans. Your support helps them maintain 600 hives from Carpinteria to Santa Ynez. At 7pm we will feature a multiple-course dinner featuring a colorful and nourishing spread of local\, seasonal\, organic cuisine.
URL:https://sbcfoodaction.org/community-calendar/sproutcraft-creamery-summer-dinner-2x2/
CATEGORIES:Dinner
ATTACH;FMTTYPE=image/png:https://sbcfoodaction.org/wp-content/uploads/2021/08/Screen-Shot-2021-08-02-at-8.22.07-AM.png
END:VEVENT
BEGIN:VEVENT
DTSTART;TZID=America/Los_Angeles:20210731T170000
DTEND;TZID=America/Los_Angeles:20210731T210000
DTSTAMP:20260423T134656
CREATED:20210726T172327Z
LAST-MODIFIED:20210726T172340Z
UID:10015578-1627750800-1627765200@sbcfoodaction.org
SUMMARY:Farm to Table Winemaker Dinner feat. Kathy Joseph of Fiddlehead Cellars
DESCRIPTION:Join us for a 4-course farm to table dinner with Kathy Joseph of Fiddlehead Cellars! Food pairings by Chef Ryan Shephard. Plus\, see our animals and learn about our sustainable farm practices on a brief farm tour by owner Jeremy Raff.
URL:https://sbcfoodaction.org/community-calendar/farm-to-table-winemaker-dinner-feat-kathy-joseph-of-fiddlehead-cellars/
LOCATION:Dare2Dream Farms\, 890 Lasalle Canyon Rd\, Lompoc\, CA\, 93436\, United States
CATEGORIES:Dinner
END:VEVENT
BEGIN:VEVENT
DTSTART;TZID=America/Los_Angeles:20210706T142049
DTEND;TZID=America/Los_Angeles:20210706T142049
DTSTAMP:20260423T134656
CREATED:20210616T011900Z
LAST-MODIFIED:20210616T012047Z
UID:10015573-1625581249-1625581249@sbcfoodaction.org
SUMMARY:SIPPING ON THE SEA 2021 – THIRD WINDOW BREWERY
DESCRIPTION:EVENT LOCATION:Santa Barbara Sailing Center/Double Dolphin Cruises\n\n\nWEBSITE:http://sbsail.com\nEMAIL:anchor@sbsail.com\nPHONE:(805) 962-2826\nADMISSION:$75.00\n\n\n\n\n\nWe launched Third Window Brewing in 2016 in homage to the Trappist tradition of beer-making\, with a vision for creating beers that represent the unique ‘terroir’ of Santa Barbara – from sage foraged out of our foothills to navel oranges harvested from our neighbors’ back yard. \nOur enthusiasm for delicious\, well-crafted beer has expanded and evolved to include other classic styles such as kolsch\, pilsner\, wit\, and the latest IPAs all made with local ingredients that represent the very best of Santa Barbara. \nSip local beer from Third Window Brewing while enjoying a Santa Barbara Sunset aboard the Double Dolphin! A representative will be on board to pour the tastings and provide education on their selection.\nIncludes complimentary tasting with a reusable Santa Barbara Sailing Center Govino cup that you can take home. \nReservations are required. This event is 21+
URL:https://sbcfoodaction.org/community-calendar/sipping-on-the-sea-2021-third-window-brewery/
CATEGORIES:Dinner,Farmers Market
ATTACH;FMTTYPE=image/jpeg:https://sbcfoodaction.org/wp-content/uploads/2021/06/third-window.jpeg
END:VEVENT
BEGIN:VEVENT
DTSTART;TZID=America/Los_Angeles:20210706T142049
DTEND;TZID=America/Los_Angeles:20210706T142049
DTSTAMP:20260423T134656
CREATED:20210607T160109Z
LAST-MODIFIED:20210607T160414Z
UID:10015571-1625581249-1625581249@sbcfoodaction.org
SUMMARY:A Night on The Farm at Fairview Gardens
DESCRIPTION:Join the Communal Table and 10 other women this June for an evening at Fairview Gardens Farm.  Enjoy a tour of the organic & urban farm\, learn from an educator about the center’s programs\, practices and agriculture. You will be served an organic & seasonally inspired supper beside the historic farmhouse as we cultivate a unique conversation centered on food equity\, sustainable farming\, and our relationship with the food we consume and our environment. Proceeds from this event will go towards scholarships this fall at the After School Programs on the Farm.
URL:https://sbcfoodaction.org/community-calendar/a-night-on-the-farm-at-fairview-gardens/
CATEGORIES:Dinner,Discussion/Lecture/Talk
ATTACH;FMTTYPE=image/jpeg:https://sbcfoodaction.org/wp-content/uploads/2021/06/Fairview-Gardens.jpeg
END:VEVENT
BEGIN:VEVENT
DTSTART;TZID=America/Los_Angeles:20210129T183000
DTEND;TZID=America/Los_Angeles:20210129T200000
DTSTAMP:20260423T134656
CREATED:20210129T182243Z
LAST-MODIFIED:20210129T182243Z
UID:10011376-1611945000-1611950400@sbcfoodaction.org
SUMMARY:Supper Club: Blind Wine Tasting & Pairing
DESCRIPTION:It’s time for a different kind of Supper Club as we celebrate the release of the Winter issue of Edible Santa Barbara with a Blind Wine & Food Pairing. Join us at The Wine Shepherd as we blind taste three Santa Barbara County wines paired with appetizers. The tasting will be led by Will Henry\, owner and winemaker at Lumen Wines. Chefs Robert and Ruben Perez of The Black Sheep will create Spanish tapas style seasonal small bites with each pairing.\n\nYou can request a vegetarian\, gluten-free or shellfish-free option when purchasing your ticket.
URL:https://sbcfoodaction.org/community-calendar/supper-club-blind-wine-tasting-pairing/
LOCATION:The Wine Shepherd\, 30 E Ortega Street\, Santa Barbara\, CA\, 93101\, United States
CATEGORIES:Dinner
ATTACH;FMTTYPE=image/jpeg:https://sbcfoodaction.org/wp-content/uploads/2021/01/WineShepherd-500x260-1.jpg
ORGANIZER;CN="Edible Santa Barbara":MAILTO:info@ediblesantabarbara.com
END:VEVENT
BEGIN:VEVENT
DTSTART;TZID=America/Los_Angeles:20190519T180000
DTEND;TZID=America/Los_Angeles:20190519T200000
DTSTAMP:20260423T134656
CREATED:20190501T193952Z
LAST-MODIFIED:20190501T193952Z
UID:10008520-1558288800-1558296000@sbcfoodaction.org
SUMMARY:Good Food For Good: A Fundraiser to benefit the launch of the SYV Community Kitchen at St. Mark's-in-the-Valley
DESCRIPTION:Good Food for Good\nA Fundraiser to benefit the launch of the SYV Community Kitchen at St. Mark’s-in-the-Valley\nBruce Cleveland and Jefferson Woeste invite you to a fun Sunday dinner benefitting the launch of the new SYV Community Kitchen at St. Mark’s-in-the-Valley. Local legend Chef Frank Ostini will be cooking at historic Rancho San Antonio on Sunday\, May 19 at 6 pm. \nAll donations are 100% deductible. \nAttire: Valley casual with bling!\nValet Parking available \nRESERVE YOUR SEAT NOW \n\nWHAT WILL A COMMUNITY KITCHEN DO?\nSYV Community Kitchen will serve the Santa Ynez Valley as a hub for a wide range of programs addressing both immediate and structural food insecurity needs and providing economic opportunity for local low-income families. \n…can be a training venue where people can learn to work in a certified commercial kitchen for our local restaurants \n…can be a teaching venue where people learn how to cook economically and efficiently \n…can serve as a recovery kitchen to preserve gleaned foods \n…can be a low- or no-cost alternative for individuals needing a commercial kitchen for a start-up or for micro-economic projects \n…can be a site for feeding programs like a Saturday breakfast or holiday dinners \n…can be a place to prepare meals to be delivered offsite —such as the summer Picnic in the Park program for children \n…can serve up ideas you have! \n  \n\nRESERVE YOUR SEAT NOW
URL:https://sbcfoodaction.org/community-calendar/good-food-for-good/
LOCATION:Rancho San Antonio\, 2051 Jonata park Rd\, Buellton\, CA\, 93427\, United States
CATEGORIES:Dinner,Fundraiser
ATTACH;FMTTYPE=image/jpeg:https://sbcfoodaction.org/wp-content/uploads/2019/05/goodforfood2_orig-e1557344137661.jpg
END:VEVENT
BEGIN:VEVENT
DTSTART;TZID=America/Los_Angeles:20190515T173000
DTEND;TZID=America/Los_Angeles:20190517T203000
DTSTAMP:20260423T134656
CREATED:20190507T165304Z
LAST-MODIFIED:20190507T165304Z
UID:10008636-1557941400-1558125000@sbcfoodaction.org
SUMMARY:Food Insecurity in Higher Education Public Forum
DESCRIPTION:Join the Santa Barbara County community in addressing the food insecurity crisis happening at our own local colleges. Many students face some degree of food insecurity\, leading us to question how we as a community can support our neighbors in accessing healthy\, affordable foods. All food suppliers\, distributors\, businesses\, activists\, and people of interest are welcome. \nThe agenda includes introductions and networking\, presentations by food security activists from local higher education institutions\, and sub-group discussions on community-based solutions. \nDINNER WILL BE PROVIDED. Be sure to fill out your availability and dietary restrictions so we can provide catered food suitable for all attendees. If you have any questions\, please email gabrieletaat@gmail.com\, and feel free to share this event with any community members you believe would be interested in attending! \nRegister for free: https://www.eventbrite.com/e/food-insecurity-in-higher-education-public-forum-tickets-61200715989
URL:https://sbcfoodaction.org/community-calendar/food-insecurity-in-higher-education-public-forum/
LOCATION:Santa Barbara City College\, 721 Cliff Drive\, Santa Barbara\, 93109\, United States
CATEGORIES:Dinner,Discussion/Lecture/Talk
ATTACH;FMTTYPE=image/jpeg:https://sbcfoodaction.org/wp-content/uploads/2019/05/shutterstock_5663851.jpg
END:VEVENT
END:VCALENDAR