BEGIN:VCALENDAR
VERSION:2.0
PRODID:-//Santa Barbara County Food Action Network - ECPv6.15.20//NONSGML v1.0//EN
CALSCALE:GREGORIAN
METHOD:PUBLISH
X-ORIGINAL-URL:https://sbcfoodaction.org
X-WR-CALDESC:Events for Santa Barbara County Food Action Network
REFRESH-INTERVAL;VALUE=DURATION:PT1H
X-Robots-Tag:noindex
X-PUBLISHED-TTL:PT1H
BEGIN:VTIMEZONE
TZID:America/Los_Angeles
BEGIN:DAYLIGHT
TZOFFSETFROM:-0800
TZOFFSETTO:-0700
TZNAME:PDT
DTSTART:20200308T100000
END:DAYLIGHT
BEGIN:STANDARD
TZOFFSETFROM:-0700
TZOFFSETTO:-0800
TZNAME:PST
DTSTART:20201101T090000
END:STANDARD
BEGIN:DAYLIGHT
TZOFFSETFROM:-0800
TZOFFSETTO:-0700
TZNAME:PDT
DTSTART:20210314T100000
END:DAYLIGHT
BEGIN:STANDARD
TZOFFSETFROM:-0700
TZOFFSETTO:-0800
TZNAME:PST
DTSTART:20211107T090000
END:STANDARD
BEGIN:DAYLIGHT
TZOFFSETFROM:-0800
TZOFFSETTO:-0700
TZNAME:PDT
DTSTART:20220313T100000
END:DAYLIGHT
BEGIN:STANDARD
TZOFFSETFROM:-0700
TZOFFSETTO:-0800
TZNAME:PST
DTSTART:20221106T090000
END:STANDARD
END:VTIMEZONE
BEGIN:VEVENT
DTSTART;TZID=America/Los_Angeles:20211009T120000
DTEND;TZID=America/Los_Angeles:20211009T125000
DTSTAMP:20260425T194720
CREATED:20211005T152849Z
LAST-MODIFIED:20211005T153506Z
UID:10015806-1633780800-1633783800@sbcfoodaction.org
SUMMARY:Introduction to Indoor Gardening on a Budget
DESCRIPTION:Join the UCSB Edible Campus Program to learn how to grow and plant your own produce indoors at low cost! They will discuss and have hands-on experience with starting and maintain an indoor garden. Students and community members are welcome to apply\, no experience is necessary! Learn more and apply.
URL:https://sbcfoodaction.org/community-calendar/introduction-to-indoor-gardening-on-a-budget/
LOCATION:Greenhouse and Garden Project (near Harder Stadium)
CATEGORIES:Class / Workshop,Discussion/Lecture/Talk
END:VEVENT
END:VCALENDAR