BEGIN:VCALENDAR
VERSION:2.0
PRODID:-//Santa Barbara County Food Action Network - ECPv6.15.20//NONSGML v1.0//EN
CALSCALE:GREGORIAN
METHOD:PUBLISH
X-ORIGINAL-URL:https://sbcfoodaction.org
X-WR-CALDESC:Events for Santa Barbara County Food Action Network
REFRESH-INTERVAL;VALUE=DURATION:PT1H
X-Robots-Tag:noindex
X-PUBLISHED-TTL:PT1H
BEGIN:VTIMEZONE
TZID:America/Los_Angeles
BEGIN:DAYLIGHT
TZOFFSETFROM:-0800
TZOFFSETTO:-0700
TZNAME:PDT
DTSTART:20210314T100000
END:DAYLIGHT
BEGIN:STANDARD
TZOFFSETFROM:-0700
TZOFFSETTO:-0800
TZNAME:PST
DTSTART:20211107T090000
END:STANDARD
BEGIN:DAYLIGHT
TZOFFSETFROM:-0800
TZOFFSETTO:-0700
TZNAME:PDT
DTSTART:20220313T100000
END:DAYLIGHT
BEGIN:STANDARD
TZOFFSETFROM:-0700
TZOFFSETTO:-0800
TZNAME:PST
DTSTART:20221106T090000
END:STANDARD
BEGIN:DAYLIGHT
TZOFFSETFROM:-0800
TZOFFSETTO:-0700
TZNAME:PDT
DTSTART:20230312T100000
END:DAYLIGHT
BEGIN:STANDARD
TZOFFSETFROM:-0700
TZOFFSETTO:-0800
TZNAME:PST
DTSTART:20231105T090000
END:STANDARD
BEGIN:DAYLIGHT
TZOFFSETFROM:-0800
TZOFFSETTO:-0700
TZNAME:PDT
DTSTART:20240310T100000
END:DAYLIGHT
BEGIN:STANDARD
TZOFFSETFROM:-0700
TZOFFSETTO:-0800
TZNAME:PST
DTSTART:20241103T090000
END:STANDARD
END:VTIMEZONE
BEGIN:VEVENT
DTSTART;VALUE=DATE:20230401
DTEND;VALUE=DATE:20230403
DTSTAMP:20260423T203756
CREATED:20230328T183617Z
LAST-MODIFIED:20230328T183617Z
UID:10015711-1680307200-1680479999@sbcfoodaction.org
SUMMARY:Regenerative Ranching Workshop with Alejandro Carillo
DESCRIPTION:Alejandro Carrillo is one of the foremost contemporary experts on regenerative and holistic practices. A software engineer by training and a 4th generation rancher\, Alejandro manages his family’s ranch in the Chihuahuan desert. Alejandro assists ranchers and institutions on regenerative practices across the Western USA and in South America. He also participates as a delegate to the United Nations to Combat Desertification and Land Degradation in multiple countries. \nLearn the main principles and practices of regenerative ranching. This workshop is for anyone interested in ranching\, rangeland management\, farming or gardening. This workshop will equip you with the tools to improve soil and water retention\, increase plant development and growth and build biodiversity. \nAlejandro Carrillo will be offering a two-day workshop on regenerative topics including: \n\nthe water-cycle\nsoil fertility\nregenerative grazing\nrisk management\nreturn on investment\n\nAlejandro and his fellow ranchers have successfully transformed large parts of Mexico’s Chihuahuan desert to grassland by implementing holistic and regenerative practices. This has resulted in both increased rainfall\, and returned desert land to lush grasslands. \n\n\nAre meals included? \nLunch is included on Saturday\, and Sunday. Coffee and tea provided upon arrival in the morning. \nAre scholarships available? \nA limited number of scholarships and sliding scale enrollments are available for this workshop. Please click here to apply. \nCan I register for one day? \nWe are currently only offering two day registration. If you would like to attend for only one day\, you may sign up on our waitlist and we’ll let you know if we can accommodate you as we get closer to the event. \nPlaces to Stay: \nIn Los Alamos: Skyview Motel\, Alamo Motel \nIn Santa Maria: Raddison Santa Maria \nIn Los Olivos: The Inn at Mattei’s Tavern an Auberge Resort\, Fess Parker Wine Country Inn
URL:https://sbcfoodaction.org/community-calendar/regenerative-ranching-workshop-with-alejandro-carillo/
LOCATION:Las Cumbres Ranch
CATEGORIES:Class / Workshop,Community Activation
ATTACH;FMTTYPE=image/png:https://sbcfoodaction.org/wp-content/uploads/2023/03/Alejandro-Carrillo-Workshop-Banner.png
ORGANIZER;CN="The Las Cumbres Ranch Foundation":MAILTO:info@lascumbresranch.com
END:VEVENT
BEGIN:VEVENT
DTSTART;TZID=America/Los_Angeles:20220812T160000
DTEND;TZID=America/Los_Angeles:20220812T180000
DTSTAMP:20260423T203756
CREATED:20220810T225334Z
LAST-MODIFIED:20220810T225334Z
UID:10016092-1660320000-1660327200@sbcfoodaction.org
SUMMARY:Santa Barbara Food and Farm Adventures with Gerri French - Tour of Las Cumbres Ranch
DESCRIPTION:Learn about regenerative agriculture and ways to mitigate climate change from Stefan Selbert\, Operations Manager of Las Cumbres Ranch. Las Cumbres Ranch is a holistically managed cattle ranch on the Central Coast of California. \nThe cost of $25 includes a farm tour and vegetarian snacks. Limited to 20 people. Learn more and reserve a spot today.
URL:https://sbcfoodaction.org/community-calendar/santa-barbara-food-and-farm-adventures-with-gerri-french-tour-of-las-cumbres-ranch/
LOCATION:Las Cumbres Ranch
CATEGORIES:Farm Tour
ATTACH;FMTTYPE=image/jpeg:https://sbcfoodaction.org/wp-content/uploads/2022/08/IMG_6801.jpg
END:VEVENT
END:VCALENDAR