BEGIN:VCALENDAR
VERSION:2.0
PRODID:-//Santa Barbara County Food Action Network - ECPv6.15.20//NONSGML v1.0//EN
CALSCALE:GREGORIAN
METHOD:PUBLISH
X-ORIGINAL-URL:https://sbcfoodaction.org
X-WR-CALDESC:Events for Santa Barbara County Food Action Network
REFRESH-INTERVAL;VALUE=DURATION:PT1H
X-Robots-Tag:noindex
X-PUBLISHED-TTL:PT1H
BEGIN:VTIMEZONE
TZID:America/Los_Angeles
BEGIN:DAYLIGHT
TZOFFSETFROM:-0800
TZOFFSETTO:-0700
TZNAME:PDT
DTSTART:20210314T100000
END:DAYLIGHT
BEGIN:STANDARD
TZOFFSETFROM:-0700
TZOFFSETTO:-0800
TZNAME:PST
DTSTART:20211107T090000
END:STANDARD
BEGIN:DAYLIGHT
TZOFFSETFROM:-0800
TZOFFSETTO:-0700
TZNAME:PDT
DTSTART:20220313T100000
END:DAYLIGHT
BEGIN:STANDARD
TZOFFSETFROM:-0700
TZOFFSETTO:-0800
TZNAME:PST
DTSTART:20221106T090000
END:STANDARD
BEGIN:DAYLIGHT
TZOFFSETFROM:-0800
TZOFFSETTO:-0700
TZNAME:PDT
DTSTART:20230312T100000
END:DAYLIGHT
BEGIN:STANDARD
TZOFFSETFROM:-0700
TZOFFSETTO:-0800
TZNAME:PST
DTSTART:20231105T090000
END:STANDARD
END:VTIMEZONE
BEGIN:VEVENT
DTSTART;TZID=America/Los_Angeles:20221205T140000
DTEND;TZID=America/Los_Angeles:20221205T170000
DTSTAMP:20260423T184642
CREATED:20220810T230026Z
LAST-MODIFIED:20220810T230026Z
UID:10016096-1670248800-1670259600@sbcfoodaction.org
SUMMARY:Isla Vista Compost Collective Community Collab Days
DESCRIPTION:Join the Isla Vista Compost Collective anytime between 2-5 pm on the first Monday of every month and become a part of our movement to reconnect with our soil\, food\, and each other. Dates include September 5\, October 3\, etc. \nIf you have any questions or request additional accommodation\, please contact Carly Marto\, IVCC Program Manager\, at compostcollective@islavistacsd.com or (805) 770-2752 ext. 3.
URL:https://sbcfoodaction.org/community-calendar/isla-vista-compost-collective-community-collab-days/2022-12-05/
LOCATION:St. Michael’s Church\, 6586 Picasso Rd\, Isla Vista\, California\, 93117
CATEGORIES:Community Activation,Free Event
ATTACH;FMTTYPE=image/jpeg:https://sbcfoodaction.org/wp-content/uploads/2022/08/IMG_6799.jpg
END:VEVENT
BEGIN:VEVENT
DTSTART;TZID=America/Los_Angeles:20221107T140000
DTEND;TZID=America/Los_Angeles:20221107T170000
DTSTAMP:20260423T184642
CREATED:20220810T230026Z
LAST-MODIFIED:20220810T230026Z
UID:10016095-1667829600-1667840400@sbcfoodaction.org
SUMMARY:Isla Vista Compost Collective Community Collab Days
DESCRIPTION:Join the Isla Vista Compost Collective anytime between 2-5 pm on the first Monday of every month and become a part of our movement to reconnect with our soil\, food\, and each other. Dates include September 5\, October 3\, etc. \nIf you have any questions or request additional accommodation\, please contact Carly Marto\, IVCC Program Manager\, at compostcollective@islavistacsd.com or (805) 770-2752 ext. 3.
URL:https://sbcfoodaction.org/community-calendar/isla-vista-compost-collective-community-collab-days/2022-11-07/
LOCATION:St. Michael’s Church\, 6586 Picasso Rd\, Isla Vista\, California\, 93117
CATEGORIES:Community Activation,Free Event
ATTACH;FMTTYPE=image/jpeg:https://sbcfoodaction.org/wp-content/uploads/2022/08/IMG_6799.jpg
END:VEVENT
BEGIN:VEVENT
DTSTART;TZID=America/Los_Angeles:20221003T140000
DTEND;TZID=America/Los_Angeles:20221003T170000
DTSTAMP:20260423T184642
CREATED:20220810T230026Z
LAST-MODIFIED:20220810T230026Z
UID:10016094-1664805600-1664816400@sbcfoodaction.org
SUMMARY:Isla Vista Compost Collective Community Collab Days
DESCRIPTION:Join the Isla Vista Compost Collective anytime between 2-5 pm on the first Monday of every month and become a part of our movement to reconnect with our soil\, food\, and each other. Dates include September 5\, October 3\, etc. \nIf you have any questions or request additional accommodation\, please contact Carly Marto\, IVCC Program Manager\, at compostcollective@islavistacsd.com or (805) 770-2752 ext. 3.
URL:https://sbcfoodaction.org/community-calendar/isla-vista-compost-collective-community-collab-days/2022-10-03/
LOCATION:St. Michael’s Church\, 6586 Picasso Rd\, Isla Vista\, California\, 93117
CATEGORIES:Community Activation,Free Event
ATTACH;FMTTYPE=image/jpeg:https://sbcfoodaction.org/wp-content/uploads/2022/08/IMG_6799.jpg
END:VEVENT
BEGIN:VEVENT
DTSTART;TZID=America/Los_Angeles:20220905T140000
DTEND;TZID=America/Los_Angeles:20220905T170000
DTSTAMP:20260423T184642
CREATED:20220810T230026Z
LAST-MODIFIED:20220810T230026Z
UID:10016093-1662386400-1662397200@sbcfoodaction.org
SUMMARY:Isla Vista Compost Collective Community Collab Days
DESCRIPTION:Join the Isla Vista Compost Collective anytime between 2-5 pm on the first Monday of every month and become a part of our movement to reconnect with our soil\, food\, and each other. Dates include September 5\, October 3\, etc. \nIf you have any questions or request additional accommodation\, please contact Carly Marto\, IVCC Program Manager\, at compostcollective@islavistacsd.com or (805) 770-2752 ext. 3.
URL:https://sbcfoodaction.org/community-calendar/isla-vista-compost-collective-community-collab-days/2022-09-05/
LOCATION:St. Michael’s Church\, 6586 Picasso Rd\, Isla Vista\, California\, 93117
CATEGORIES:Community Activation,Free Event
ATTACH;FMTTYPE=image/jpeg:https://sbcfoodaction.org/wp-content/uploads/2022/08/IMG_6799.jpg
END:VEVENT
END:VCALENDAR