BEGIN:VCALENDAR
VERSION:2.0
PRODID:-//Santa Barbara County Food Action Network - ECPv6.15.20//NONSGML v1.0//EN
CALSCALE:GREGORIAN
METHOD:PUBLISH
X-ORIGINAL-URL:https://sbcfoodaction.org
X-WR-CALDESC:Events for Santa Barbara County Food Action Network
REFRESH-INTERVAL;VALUE=DURATION:PT1H
X-Robots-Tag:noindex
X-PUBLISHED-TTL:PT1H
BEGIN:VTIMEZONE
TZID:America/Los_Angeles
BEGIN:DAYLIGHT
TZOFFSETFROM:-0800
TZOFFSETTO:-0700
TZNAME:PDT
DTSTART:20200308T100000
END:DAYLIGHT
BEGIN:STANDARD
TZOFFSETFROM:-0700
TZOFFSETTO:-0800
TZNAME:PST
DTSTART:20201101T090000
END:STANDARD
BEGIN:DAYLIGHT
TZOFFSETFROM:-0800
TZOFFSETTO:-0700
TZNAME:PDT
DTSTART:20210314T100000
END:DAYLIGHT
BEGIN:STANDARD
TZOFFSETFROM:-0700
TZOFFSETTO:-0800
TZNAME:PST
DTSTART:20211107T090000
END:STANDARD
BEGIN:DAYLIGHT
TZOFFSETFROM:-0800
TZOFFSETTO:-0700
TZNAME:PDT
DTSTART:20220313T100000
END:DAYLIGHT
BEGIN:STANDARD
TZOFFSETFROM:-0700
TZOFFSETTO:-0800
TZNAME:PST
DTSTART:20221106T090000
END:STANDARD
END:VTIMEZONE
BEGIN:VEVENT
DTSTART;TZID=America/Los_Angeles:20210521T140000
DTEND;TZID=America/Los_Angeles:20210521T151500
DTSTAMP:20260425T212611
CREATED:20210518T180453Z
LAST-MODIFIED:20210518T180453Z
UID:10015540-1621605600-1621610100@sbcfoodaction.org
SUMMARY:Farm to School (F2S) Round Table Event
DESCRIPTION:If you haven’t already\, register for the F2S Round Table Event on Friday\, May 21 at 2:00pm – 3:15pm hosted by CAPSLO. \nJoin our free discussion with key F2S panelists including: \n\nAbbi Marrs\, UC Cooperative Extension –  School Garden Coordinator\nBrook Stepheson\, Food Service Director SMJUHSD\nJordyn Rae- Ernest Rigetti High School Student\nPaul Robinson\, SMJUHSD Career Technical Education (CTE)/AG Farm Director\nVictor Hernandez\, Outreach Coordinator & Sociologist\, USDA Beginning Farmers Coordinator\nAlejandra Mahjony -Blosser Urban Garden\, Local Farmer\n\nWe are so excited to discuss key topics\, dive into Q & A\, and to learn from local experts passionate about improving student access to healthy foods! Key topics will include the support needed to expand: \n\n\nAgriculture education \n\n\nLocal procurement \n\n\nSchool gardens \n\n\n*This meeting will be recorded and translated in Spanish if requested. \nRegister now here.
URL:https://sbcfoodaction.org/community-calendar/farm-to-school-f2s-round-table-event/
LOCATION:Zoom Webinar
CATEGORIES:Discussion/Lecture/Talk,Free Event,Livestream,Webinar
ATTACH;FMTTYPE=image/png:https://sbcfoodaction.org/wp-content/uploads/2021/05/031.png
ORGANIZER;CN="Community Action Partnership of San Luis Obispo":MAILTO:hotline@capslo.org
END:VEVENT
END:VCALENDAR