BEGIN:VCALENDAR
VERSION:2.0
PRODID:-//Santa Barbara County Food Action Network - ECPv6.15.20//NONSGML v1.0//EN
CALSCALE:GREGORIAN
METHOD:PUBLISH
X-WR-CALNAME:Santa Barbara County Food Action Network
X-ORIGINAL-URL:https://sbcfoodaction.org
X-WR-CALDESC:Events for Santa Barbara County Food Action Network
REFRESH-INTERVAL;VALUE=DURATION:PT1H
X-Robots-Tag:noindex
X-PUBLISHED-TTL:PT1H
BEGIN:VTIMEZONE
TZID:America/Los_Angeles
BEGIN:DAYLIGHT
TZOFFSETFROM:-0800
TZOFFSETTO:-0700
TZNAME:PDT
DTSTART:20200308T100000
END:DAYLIGHT
BEGIN:STANDARD
TZOFFSETFROM:-0700
TZOFFSETTO:-0800
TZNAME:PST
DTSTART:20201101T090000
END:STANDARD
BEGIN:DAYLIGHT
TZOFFSETFROM:-0800
TZOFFSETTO:-0700
TZNAME:PDT
DTSTART:20210314T100000
END:DAYLIGHT
BEGIN:STANDARD
TZOFFSETFROM:-0700
TZOFFSETTO:-0800
TZNAME:PST
DTSTART:20211107T090000
END:STANDARD
BEGIN:DAYLIGHT
TZOFFSETFROM:-0800
TZOFFSETTO:-0700
TZNAME:PDT
DTSTART:20220313T100000
END:DAYLIGHT
BEGIN:STANDARD
TZOFFSETFROM:-0700
TZOFFSETTO:-0800
TZNAME:PST
DTSTART:20221106T090000
END:STANDARD
END:VTIMEZONE
BEGIN:VEVENT
DTSTART;TZID=America/Los_Angeles:20210925T160000
DTEND;TZID=America/Los_Angeles:20210925T200000
DTSTAMP:20260424T070320
CREATED:20210726T172611Z
LAST-MODIFIED:20210726T172611Z
UID:10015579-1632585600-1632600000@sbcfoodaction.org
SUMMARY:Farm to Table Winemaker Dinner featuring Max Hoetzel of F2 Wines
DESCRIPTION:Join us for a 4-course farm to table dinner featuring winemaker Max Hoetzel of F2 Wines. Chef Ryan Shepard will create dishes harvested freshly from the farm to celebrate the wines while you dine al fresco by the garden.
URL:https://sbcfoodaction.org/community-calendar/farm-to-table-winemaker-dinner-featuring-max-hoetzel-of-f2-wines/
LOCATION:Dare2Dream Farms\, 890 Lasalle Canyon Rd\, Lompoc\, CA\, 93436\, United States
CATEGORIES:Dinner
ATTACH;FMTTYPE=image/png:https://sbcfoodaction.org/wp-content/uploads/2021/07/Screen-Shot-2021-07-26-at-10.25.20-AM.png
END:VEVENT
BEGIN:VEVENT
DTSTART;TZID=America/Los_Angeles:20210731T170000
DTEND;TZID=America/Los_Angeles:20210731T210000
DTSTAMP:20260424T070320
CREATED:20210726T172327Z
LAST-MODIFIED:20210726T172340Z
UID:10015578-1627750800-1627765200@sbcfoodaction.org
SUMMARY:Farm to Table Winemaker Dinner feat. Kathy Joseph of Fiddlehead Cellars
DESCRIPTION:Join us for a 4-course farm to table dinner with Kathy Joseph of Fiddlehead Cellars! Food pairings by Chef Ryan Shephard. Plus\, see our animals and learn about our sustainable farm practices on a brief farm tour by owner Jeremy Raff.
URL:https://sbcfoodaction.org/community-calendar/farm-to-table-winemaker-dinner-feat-kathy-joseph-of-fiddlehead-cellars/
LOCATION:Dare2Dream Farms\, 890 Lasalle Canyon Rd\, Lompoc\, CA\, 93436\, United States
CATEGORIES:Dinner
END:VEVENT
END:VCALENDAR