BEGIN:VCALENDAR
VERSION:2.0
PRODID:-//Santa Barbara County Food Action Network - ECPv6.15.20//NONSGML v1.0//EN
CALSCALE:GREGORIAN
METHOD:PUBLISH
X-WR-CALNAME:Santa Barbara County Food Action Network
X-ORIGINAL-URL:https://sbcfoodaction.org
X-WR-CALDESC:Events for Santa Barbara County Food Action Network
REFRESH-INTERVAL;VALUE=DURATION:PT1H
X-Robots-Tag:noindex
X-PUBLISHED-TTL:PT1H
BEGIN:VTIMEZONE
TZID:America/Los_Angeles
BEGIN:DAYLIGHT
TZOFFSETFROM:-0800
TZOFFSETTO:-0700
TZNAME:PDT
DTSTART:20210314T100000
END:DAYLIGHT
BEGIN:STANDARD
TZOFFSETFROM:-0700
TZOFFSETTO:-0800
TZNAME:PST
DTSTART:20211107T090000
END:STANDARD
BEGIN:DAYLIGHT
TZOFFSETFROM:-0800
TZOFFSETTO:-0700
TZNAME:PDT
DTSTART:20220313T100000
END:DAYLIGHT
BEGIN:STANDARD
TZOFFSETFROM:-0700
TZOFFSETTO:-0800
TZNAME:PST
DTSTART:20221106T090000
END:STANDARD
BEGIN:DAYLIGHT
TZOFFSETFROM:-0800
TZOFFSETTO:-0700
TZNAME:PDT
DTSTART:20230312T100000
END:DAYLIGHT
BEGIN:STANDARD
TZOFFSETFROM:-0700
TZOFFSETTO:-0800
TZNAME:PST
DTSTART:20231105T090000
END:STANDARD
END:VTIMEZONE
BEGIN:VEVENT
DTSTART;TZID=America/Los_Angeles:20220112T110000
DTEND;TZID=America/Los_Angeles:20220112T133000
DTSTAMP:20260425T145432
CREATED:20220111T182135Z
LAST-MODIFIED:20220111T182135Z
UID:10016010-1641985200-1641994200@sbcfoodaction.org
SUMMARY:Isla Vista Food Co-Op 50th Anniversary
DESCRIPTION:As part of its 50th Anniversary celebrations\, the Isla Vista Food Co-op is pleased to announce a special meet-and-greet coffee hour with many of the co-authors of Isla Vista’s definitive history: Isla Vista\, A Citizen’s History\, Second Edition. The event takes place Wednesday\, January 12th on the front patio of the IV Food Coop at 6575 Seville Rd.\, Isla Vista\, from 11:00 am-1:30pm. Principal author Carmen Lodise will be present\, in addition to co-authors Carrie Topliffe (town politics in the ’80s)\, Jonathan Abboud (IVCSD)\, LuAnn Miller (IV Youth Project)\, Frank Thompson (IV Community Center)\, and former Co-op GM Jeff Walsh\, who authored the chapter on the history of the IV Food Co-op\, celebrating its 50th Anniversary this year. \nAttendees have the opportunity to purchase signed copies of Isla Vista\, A Citizen’s History\, as well as hear stories of Isla Vista’s past from the mouths of those who lived it. Lodise\, a one-time long-time Isla Vista resident and active community member\, will also promote and autograph his new memoir Carmelo: The Adventures of a Smalltime Instigator.  \nFree hot beverages and light snacks will be provided by the Co-op for attendees.
URL:https://sbcfoodaction.org/community-calendar/isla-vista-food-co-op-50th-anniversary/
LOCATION:Isla Vista Food Cooperative\, 6575 Seville Road\, Isla Vista\, California\, 93117
END:VEVENT
END:VCALENDAR