BEGIN:VCALENDAR
VERSION:2.0
PRODID:-//Santa Barbara County Food Action Network - ECPv6.15.20//NONSGML v1.0//EN
CALSCALE:GREGORIAN
METHOD:PUBLISH
X-ORIGINAL-URL:https://sbcfoodaction.org
X-WR-CALDESC:Events for Santa Barbara County Food Action Network
REFRESH-INTERVAL;VALUE=DURATION:PT1H
X-Robots-Tag:noindex
X-PUBLISHED-TTL:PT1H
BEGIN:VTIMEZONE
TZID:America/Los_Angeles
BEGIN:DAYLIGHT
TZOFFSETFROM:-0800
TZOFFSETTO:-0700
TZNAME:PDT
DTSTART:20200308T100000
END:DAYLIGHT
BEGIN:STANDARD
TZOFFSETFROM:-0700
TZOFFSETTO:-0800
TZNAME:PST
DTSTART:20201101T090000
END:STANDARD
BEGIN:DAYLIGHT
TZOFFSETFROM:-0800
TZOFFSETTO:-0700
TZNAME:PDT
DTSTART:20210314T100000
END:DAYLIGHT
BEGIN:STANDARD
TZOFFSETFROM:-0700
TZOFFSETTO:-0800
TZNAME:PST
DTSTART:20211107T090000
END:STANDARD
BEGIN:DAYLIGHT
TZOFFSETFROM:-0800
TZOFFSETTO:-0700
TZNAME:PDT
DTSTART:20220313T100000
END:DAYLIGHT
BEGIN:STANDARD
TZOFFSETFROM:-0700
TZOFFSETTO:-0800
TZNAME:PST
DTSTART:20221106T090000
END:STANDARD
BEGIN:DAYLIGHT
TZOFFSETFROM:-0800
TZOFFSETTO:-0700
TZNAME:PDT
DTSTART:20230312T100000
END:DAYLIGHT
BEGIN:STANDARD
TZOFFSETFROM:-0700
TZOFFSETTO:-0800
TZNAME:PST
DTSTART:20231105T090000
END:STANDARD
END:VTIMEZONE
BEGIN:VEVENT
DTSTART;TZID=America/Los_Angeles:20220223T150000
DTEND;TZID=America/Los_Angeles:20220223T160000
DTSTAMP:20260425T130952
CREATED:20220216T201948Z
LAST-MODIFIED:20220216T202022Z
UID:10014150-1645628400-1645632000@sbcfoodaction.org
SUMMARY:Finding Your Future in Food Systems
DESCRIPTION:Join the North American Food Systems Network (NAFSN) for their next Finding Your Future in Food Systems webinar on Wednesday\, February 23\, 2022\, at 3:00 pm PST. This event will feature three speakers from job-creating\, food system organizations: \n> Jacquelyn Evers of The Land Connection\, IL\n> Jacob Boehm of Snap Pea Creative Dining\, NC\n> Angel Cruz of Center for Environmental Farming Systems\, NC \nThis series is designed by and for students and other emerging professionals. Register today.
URL:https://sbcfoodaction.org/community-calendar/finding-your-future-in-food-systems-2/
LOCATION:Online Event
CATEGORIES:Free Event,Webinar
ATTACH;FMTTYPE=image/png:https://sbcfoodaction.org/wp-content/uploads/2022/02/Screen-Shot-2022-02-16-at-10.56.59-AM.png
END:VEVENT
BEGIN:VEVENT
DTSTART;TZID=America/Los_Angeles:20211116T150000
DTEND;TZID=America/Los_Angeles:20211116T160000
DTSTAMP:20260425T130952
CREATED:20211004T192440Z
LAST-MODIFIED:20211004T192440Z
UID:10015804-1637074800-1637078400@sbcfoodaction.org
SUMMARY:Finding Your Future in Food Systems
DESCRIPTION:NAFSN’s Finding Your Future in Food Systems webinar series will provide participants with connections and insights to help them identify next steps for their careers. The four-part series (Oct 6\, 19\, Nov 3\, 16\, 2021) features speakers from job-creating organizations and businesses\, some working locally in their communities\, others with national and international scope. The series has been produced specifically for college students and other emerging professionals.
URL:https://sbcfoodaction.org/community-calendar/finding-your-future-in-food-systems/2021-11-16/
CATEGORIES:Discussion/Lecture/Talk,Webinar
ATTACH;FMTTYPE=image/png:https://sbcfoodaction.org/wp-content/uploads/2021/10/Screen-Shot-2021-10-04-at-12.21.44-PM.png
END:VEVENT
BEGIN:VEVENT
DTSTART;TZID=America/Los_Angeles:20211103T150000
DTEND;TZID=America/Los_Angeles:20211103T160000
DTSTAMP:20260425T130952
CREATED:20211004T192440Z
LAST-MODIFIED:20211004T192440Z
UID:10015803-1635951600-1635955200@sbcfoodaction.org
SUMMARY:Finding Your Future in Food Systems
DESCRIPTION:NAFSN’s Finding Your Future in Food Systems webinar series will provide participants with connections and insights to help them identify next steps for their careers. The four-part series (Oct 6\, 19\, Nov 3\, 16\, 2021) features speakers from job-creating organizations and businesses\, some working locally in their communities\, others with national and international scope. The series has been produced specifically for college students and other emerging professionals.
URL:https://sbcfoodaction.org/community-calendar/finding-your-future-in-food-systems/2021-11-03/
CATEGORIES:Discussion/Lecture/Talk,Webinar
ATTACH;FMTTYPE=image/png:https://sbcfoodaction.org/wp-content/uploads/2021/10/Screen-Shot-2021-10-04-at-12.21.44-PM.png
END:VEVENT
BEGIN:VEVENT
DTSTART;TZID=America/Los_Angeles:20211019T150000
DTEND;TZID=America/Los_Angeles:20211019T160000
DTSTAMP:20260425T130952
CREATED:20211004T192440Z
LAST-MODIFIED:20211004T192440Z
UID:10015802-1634655600-1634659200@sbcfoodaction.org
SUMMARY:Finding Your Future in Food Systems
DESCRIPTION:NAFSN’s Finding Your Future in Food Systems webinar series will provide participants with connections and insights to help them identify next steps for their careers. The four-part series (Oct 6\, 19\, Nov 3\, 16\, 2021) features speakers from job-creating organizations and businesses\, some working locally in their communities\, others with national and international scope. The series has been produced specifically for college students and other emerging professionals.
URL:https://sbcfoodaction.org/community-calendar/finding-your-future-in-food-systems/2021-10-19/
CATEGORIES:Discussion/Lecture/Talk,Webinar
ATTACH;FMTTYPE=image/png:https://sbcfoodaction.org/wp-content/uploads/2021/10/Screen-Shot-2021-10-04-at-12.21.44-PM.png
END:VEVENT
BEGIN:VEVENT
DTSTART;TZID=America/Los_Angeles:20211006T150000
DTEND;TZID=America/Los_Angeles:20211006T160000
DTSTAMP:20260425T130952
CREATED:20211004T192440Z
LAST-MODIFIED:20211004T192440Z
UID:10015801-1633532400-1633536000@sbcfoodaction.org
SUMMARY:Finding Your Future in Food Systems
DESCRIPTION:NAFSN’s Finding Your Future in Food Systems webinar series will provide participants with connections and insights to help them identify next steps for their careers. The four-part series (Oct 6\, 19\, Nov 3\, 16\, 2021) features speakers from job-creating organizations and businesses\, some working locally in their communities\, others with national and international scope. The series has been produced specifically for college students and other emerging professionals.
URL:https://sbcfoodaction.org/community-calendar/finding-your-future-in-food-systems/2021-10-06/
CATEGORIES:Discussion/Lecture/Talk,Webinar
ATTACH;FMTTYPE=image/png:https://sbcfoodaction.org/wp-content/uploads/2021/10/Screen-Shot-2021-10-04-at-12.21.44-PM.png
END:VEVENT
END:VCALENDAR