BEGIN:VCALENDAR
VERSION:2.0
PRODID:-//Santa Barbara County Food Action Network - ECPv6.15.20//NONSGML v1.0//EN
CALSCALE:GREGORIAN
METHOD:PUBLISH
X-ORIGINAL-URL:https://sbcfoodaction.org
X-WR-CALDESC:Events for Santa Barbara County Food Action Network
REFRESH-INTERVAL;VALUE=DURATION:PT1H
X-Robots-Tag:noindex
X-PUBLISHED-TTL:PT1H
BEGIN:VTIMEZONE
TZID:America/Los_Angeles
BEGIN:DAYLIGHT
TZOFFSETFROM:-0800
TZOFFSETTO:-0700
TZNAME:PDT
DTSTART:20230312T100000
END:DAYLIGHT
BEGIN:STANDARD
TZOFFSETFROM:-0700
TZOFFSETTO:-0800
TZNAME:PST
DTSTART:20231105T090000
END:STANDARD
BEGIN:DAYLIGHT
TZOFFSETFROM:-0800
TZOFFSETTO:-0700
TZNAME:PDT
DTSTART:20240310T100000
END:DAYLIGHT
BEGIN:STANDARD
TZOFFSETFROM:-0700
TZOFFSETTO:-0800
TZNAME:PST
DTSTART:20241103T090000
END:STANDARD
BEGIN:DAYLIGHT
TZOFFSETFROM:-0800
TZOFFSETTO:-0700
TZNAME:PDT
DTSTART:20250309T100000
END:DAYLIGHT
BEGIN:STANDARD
TZOFFSETFROM:-0700
TZOFFSETTO:-0800
TZNAME:PST
DTSTART:20251102T090000
END:STANDARD
END:VTIMEZONE
BEGIN:VEVENT
DTSTART;TZID=America/Los_Angeles:20241026T093000
DTEND;TZID=America/Los_Angeles:20241026T100000
DTSTAMP:20260424T121456
CREATED:20241026T061356Z
LAST-MODIFIED:20241026T062921Z
UID:10016274-1729935000-1729936800@sbcfoodaction.org
SUMMARY:Keynote Speaker Jennifer Lester Moffitt
DESCRIPTION:[vc_row][vc_column width=”1/4″][/vc_column][vc_column width=”3/4″][vc_column_text css=””]KEYNOTE TOPICS WILL INCLUDE \n\nImportance of regional food systems\nRole of usda in supporting regional food systems\nCritical role of small scale producers in regional supply chains\n\nBIO\nJennifer Lester Moffitt is the Under Secretary for Marketing and Regulatory Programs at the United States Department of Agriculture\, the first woman to serve in this position. At USDA\, she provides leadership for the Agricultural Marketing Service and Animal and Plant Health Inspection Service\, working to build a more reliable\, resilient\, and equitable food system by strengthening agricultural markets and ensuring the health and welfare of animals and plants. Prior to joining USDA\, Under Secretary Moffitt worked for the California Department of Food and Agriculture where she championed the critically important work of farmers and producers in her roles as Undersecretary and Deputy Secretary. A 5th generation Californian\, Under Secretary Moffitt has deep roots in agriculture and ran her family’s organic farm and processing operation for 10 years\, expanding domestic and international markets\, and implementing climate smart agricultural practices. As a former farmer and now policymaker\, Under Secretary Moffitt believes in the importance of engaging agricultural stakeholders and working collaboratively to sustain our environment\, strengthen our rural economies\, and support new and better markets for producers and consumers.[/vc_column_text][/vc_column][/vc_row]
URL:https://sbcfoodaction.org/community-calendar/keynote-speaker-jennifer-lester-moffitt/
LOCATION:Boyd Hall\, 800 South College Drive\, Santa Maria\, CA\, 93454\, United States
CATEGORIES:9
ATTACH;FMTTYPE=image/jpeg:https://sbcfoodaction.org/wp-content/uploads/2024/10/jenniver-moffit.jpg
END:VEVENT
END:VCALENDAR