BEGIN:VCALENDAR
VERSION:2.0
PRODID:-//Santa Barbara County Food Action Network - ECPv6.15.20//NONSGML v1.0//EN
CALSCALE:GREGORIAN
METHOD:PUBLISH
X-ORIGINAL-URL:https://sbcfoodaction.org
X-WR-CALDESC:Events for Santa Barbara County Food Action Network
REFRESH-INTERVAL;VALUE=DURATION:PT1H
X-Robots-Tag:noindex
X-PUBLISHED-TTL:PT1H
BEGIN:VTIMEZONE
TZID:America/Los_Angeles
BEGIN:DAYLIGHT
TZOFFSETFROM:-0800
TZOFFSETTO:-0700
TZNAME:PDT
DTSTART:20200308T100000
END:DAYLIGHT
BEGIN:STANDARD
TZOFFSETFROM:-0700
TZOFFSETTO:-0800
TZNAME:PST
DTSTART:20201101T090000
END:STANDARD
BEGIN:DAYLIGHT
TZOFFSETFROM:-0800
TZOFFSETTO:-0700
TZNAME:PDT
DTSTART:20210314T100000
END:DAYLIGHT
BEGIN:STANDARD
TZOFFSETFROM:-0700
TZOFFSETTO:-0800
TZNAME:PST
DTSTART:20211107T090000
END:STANDARD
BEGIN:DAYLIGHT
TZOFFSETFROM:-0800
TZOFFSETTO:-0700
TZNAME:PDT
DTSTART:20220313T100000
END:DAYLIGHT
BEGIN:STANDARD
TZOFFSETFROM:-0700
TZOFFSETTO:-0800
TZNAME:PST
DTSTART:20221106T090000
END:STANDARD
END:VTIMEZONE
BEGIN:VEVENT
DTSTART;TZID=America/Los_Angeles:20210617T150000
DTEND;TZID=America/Los_Angeles:20210617T180000
DTSTAMP:20260423T103454
CREATED:20210129T181041Z
LAST-MODIFIED:20230602T201656Z
UID:10010594-1623942000-1623952800@sbcfoodaction.org
SUMMARY:Carpinteria Farmers Market
DESCRIPTION:The Santa Barbara Certified Farmers’ Market is a fresh produce driven\, outdoor market of over 120 members. The market has been in existence for over 30 years and includes 6 local locations. The markets serve to strengthen the local communities ties and will help to provide weekly events at no cost while enhancing our community’s quality of life. Each week the farmers in the marketplace display a colorful bounty of agricultural products grown right in our backyard. Seasonal diversity is available year round rain or shine.
URL:https://sbcfoodaction.org/community-calendar/carpinteria-farmers-market-3/2021-06-17/
LOCATION:Downtown Carpinteria\, 800 block of Linden Ave\, Carpinteria\, CA\, 93013\, United States
CATEGORIES:Farmers Market
ATTACH;FMTTYPE=image/jpeg:https://sbcfoodaction.org/wp-content/uploads/2021/01/carpfm.jpg
ORGANIZER;CN="Santa Barbara Certified Farmers Market Association":MAILTO:sbcfma@rain.org
END:VEVENT
BEGIN:VEVENT
DTSTART;TZID=America/Los_Angeles:20210610T150000
DTEND;TZID=America/Los_Angeles:20210610T180000
DTSTAMP:20260423T103454
CREATED:20210129T181041Z
LAST-MODIFIED:20230602T201656Z
UID:10010593-1623337200-1623348000@sbcfoodaction.org
SUMMARY:Carpinteria Farmers Market
DESCRIPTION:The Santa Barbara Certified Farmers’ Market is a fresh produce driven\, outdoor market of over 120 members. The market has been in existence for over 30 years and includes 6 local locations. The markets serve to strengthen the local communities ties and will help to provide weekly events at no cost while enhancing our community’s quality of life. Each week the farmers in the marketplace display a colorful bounty of agricultural products grown right in our backyard. Seasonal diversity is available year round rain or shine.
URL:https://sbcfoodaction.org/community-calendar/carpinteria-farmers-market-3/2021-06-10/
LOCATION:Downtown Carpinteria\, 800 block of Linden Ave\, Carpinteria\, CA\, 93013\, United States
CATEGORIES:Farmers Market
ATTACH;FMTTYPE=image/jpeg:https://sbcfoodaction.org/wp-content/uploads/2021/01/carpfm.jpg
ORGANIZER;CN="Santa Barbara Certified Farmers Market Association":MAILTO:sbcfma@rain.org
END:VEVENT
BEGIN:VEVENT
DTSTART;TZID=America/Los_Angeles:20210603T150000
DTEND;TZID=America/Los_Angeles:20210603T180000
DTSTAMP:20260423T103454
CREATED:20210129T181041Z
LAST-MODIFIED:20230602T201656Z
UID:10010592-1622732400-1622743200@sbcfoodaction.org
SUMMARY:Carpinteria Farmers Market
DESCRIPTION:The Santa Barbara Certified Farmers’ Market is a fresh produce driven\, outdoor market of over 120 members. The market has been in existence for over 30 years and includes 6 local locations. The markets serve to strengthen the local communities ties and will help to provide weekly events at no cost while enhancing our community’s quality of life. Each week the farmers in the marketplace display a colorful bounty of agricultural products grown right in our backyard. Seasonal diversity is available year round rain or shine.
URL:https://sbcfoodaction.org/community-calendar/carpinteria-farmers-market-3/2021-06-03/
LOCATION:Downtown Carpinteria\, 800 block of Linden Ave\, Carpinteria\, CA\, 93013\, United States
CATEGORIES:Farmers Market
ATTACH;FMTTYPE=image/jpeg:https://sbcfoodaction.org/wp-content/uploads/2021/01/carpfm.jpg
ORGANIZER;CN="Santa Barbara Certified Farmers Market Association":MAILTO:sbcfma@rain.org
END:VEVENT
BEGIN:VEVENT
DTSTART;TZID=America/Los_Angeles:20210527T150000
DTEND;TZID=America/Los_Angeles:20210527T180000
DTSTAMP:20260423T103454
CREATED:20210129T181041Z
LAST-MODIFIED:20230602T201656Z
UID:10010591-1622127600-1622138400@sbcfoodaction.org
SUMMARY:Carpinteria Farmers Market
DESCRIPTION:The Santa Barbara Certified Farmers’ Market is a fresh produce driven\, outdoor market of over 120 members. The market has been in existence for over 30 years and includes 6 local locations. The markets serve to strengthen the local communities ties and will help to provide weekly events at no cost while enhancing our community’s quality of life. Each week the farmers in the marketplace display a colorful bounty of agricultural products grown right in our backyard. Seasonal diversity is available year round rain or shine.
URL:https://sbcfoodaction.org/community-calendar/carpinteria-farmers-market-3/2021-05-27/
LOCATION:Downtown Carpinteria\, 800 block of Linden Ave\, Carpinteria\, CA\, 93013\, United States
CATEGORIES:Farmers Market
ATTACH;FMTTYPE=image/jpeg:https://sbcfoodaction.org/wp-content/uploads/2021/01/carpfm.jpg
ORGANIZER;CN="Santa Barbara Certified Farmers Market Association":MAILTO:sbcfma@rain.org
END:VEVENT
BEGIN:VEVENT
DTSTART;TZID=America/Los_Angeles:20210520T150000
DTEND;TZID=America/Los_Angeles:20210520T180000
DTSTAMP:20260423T103454
CREATED:20210129T181041Z
LAST-MODIFIED:20230602T201656Z
UID:10010590-1621522800-1621533600@sbcfoodaction.org
SUMMARY:Carpinteria Farmers Market
DESCRIPTION:The Santa Barbara Certified Farmers’ Market is a fresh produce driven\, outdoor market of over 120 members. The market has been in existence for over 30 years and includes 6 local locations. The markets serve to strengthen the local communities ties and will help to provide weekly events at no cost while enhancing our community’s quality of life. Each week the farmers in the marketplace display a colorful bounty of agricultural products grown right in our backyard. Seasonal diversity is available year round rain or shine.
URL:https://sbcfoodaction.org/community-calendar/carpinteria-farmers-market-3/2021-05-20/
LOCATION:Downtown Carpinteria\, 800 block of Linden Ave\, Carpinteria\, CA\, 93013\, United States
CATEGORIES:Farmers Market
ATTACH;FMTTYPE=image/jpeg:https://sbcfoodaction.org/wp-content/uploads/2021/01/carpfm.jpg
ORGANIZER;CN="Santa Barbara Certified Farmers Market Association":MAILTO:sbcfma@rain.org
END:VEVENT
BEGIN:VEVENT
DTSTART;TZID=America/Los_Angeles:20210513T150000
DTEND;TZID=America/Los_Angeles:20210513T180000
DTSTAMP:20260423T103454
CREATED:20210129T181041Z
LAST-MODIFIED:20230602T201656Z
UID:10010589-1620918000-1620928800@sbcfoodaction.org
SUMMARY:Carpinteria Farmers Market
DESCRIPTION:The Santa Barbara Certified Farmers’ Market is a fresh produce driven\, outdoor market of over 120 members. The market has been in existence for over 30 years and includes 6 local locations. The markets serve to strengthen the local communities ties and will help to provide weekly events at no cost while enhancing our community’s quality of life. Each week the farmers in the marketplace display a colorful bounty of agricultural products grown right in our backyard. Seasonal diversity is available year round rain or shine.
URL:https://sbcfoodaction.org/community-calendar/carpinteria-farmers-market-3/2021-05-13/
LOCATION:Downtown Carpinteria\, 800 block of Linden Ave\, Carpinteria\, CA\, 93013\, United States
CATEGORIES:Farmers Market
ATTACH;FMTTYPE=image/jpeg:https://sbcfoodaction.org/wp-content/uploads/2021/01/carpfm.jpg
ORGANIZER;CN="Santa Barbara Certified Farmers Market Association":MAILTO:sbcfma@rain.org
END:VEVENT
BEGIN:VEVENT
DTSTART;TZID=America/Los_Angeles:20210506T150000
DTEND;TZID=America/Los_Angeles:20210506T180000
DTSTAMP:20260423T103454
CREATED:20210129T181041Z
LAST-MODIFIED:20230602T201656Z
UID:10010588-1620313200-1620324000@sbcfoodaction.org
SUMMARY:Carpinteria Farmers Market
DESCRIPTION:The Santa Barbara Certified Farmers’ Market is a fresh produce driven\, outdoor market of over 120 members. The market has been in existence for over 30 years and includes 6 local locations. The markets serve to strengthen the local communities ties and will help to provide weekly events at no cost while enhancing our community’s quality of life. Each week the farmers in the marketplace display a colorful bounty of agricultural products grown right in our backyard. Seasonal diversity is available year round rain or shine.
URL:https://sbcfoodaction.org/community-calendar/carpinteria-farmers-market-3/2021-05-06/
LOCATION:Downtown Carpinteria\, 800 block of Linden Ave\, Carpinteria\, CA\, 93013\, United States
CATEGORIES:Farmers Market
ATTACH;FMTTYPE=image/jpeg:https://sbcfoodaction.org/wp-content/uploads/2021/01/carpfm.jpg
ORGANIZER;CN="Santa Barbara Certified Farmers Market Association":MAILTO:sbcfma@rain.org
END:VEVENT
BEGIN:VEVENT
DTSTART;TZID=America/Los_Angeles:20210429T150000
DTEND;TZID=America/Los_Angeles:20210429T180000
DTSTAMP:20260423T103454
CREATED:20210129T181041Z
LAST-MODIFIED:20230602T201656Z
UID:10010587-1619708400-1619719200@sbcfoodaction.org
SUMMARY:Carpinteria Farmers Market
DESCRIPTION:The Santa Barbara Certified Farmers’ Market is a fresh produce driven\, outdoor market of over 120 members. The market has been in existence for over 30 years and includes 6 local locations. The markets serve to strengthen the local communities ties and will help to provide weekly events at no cost while enhancing our community’s quality of life. Each week the farmers in the marketplace display a colorful bounty of agricultural products grown right in our backyard. Seasonal diversity is available year round rain or shine.
URL:https://sbcfoodaction.org/community-calendar/carpinteria-farmers-market-3/2021-04-29/
LOCATION:Downtown Carpinteria\, 800 block of Linden Ave\, Carpinteria\, CA\, 93013\, United States
CATEGORIES:Farmers Market
ATTACH;FMTTYPE=image/jpeg:https://sbcfoodaction.org/wp-content/uploads/2021/01/carpfm.jpg
ORGANIZER;CN="Santa Barbara Certified Farmers Market Association":MAILTO:sbcfma@rain.org
END:VEVENT
BEGIN:VEVENT
DTSTART;TZID=America/Los_Angeles:20210422T150000
DTEND;TZID=America/Los_Angeles:20210422T180000
DTSTAMP:20260423T103454
CREATED:20210129T181041Z
LAST-MODIFIED:20230602T201656Z
UID:10010586-1619103600-1619114400@sbcfoodaction.org
SUMMARY:Carpinteria Farmers Market
DESCRIPTION:The Santa Barbara Certified Farmers’ Market is a fresh produce driven\, outdoor market of over 120 members. The market has been in existence for over 30 years and includes 6 local locations. The markets serve to strengthen the local communities ties and will help to provide weekly events at no cost while enhancing our community’s quality of life. Each week the farmers in the marketplace display a colorful bounty of agricultural products grown right in our backyard. Seasonal diversity is available year round rain or shine.
URL:https://sbcfoodaction.org/community-calendar/carpinteria-farmers-market-3/2021-04-22/
LOCATION:Downtown Carpinteria\, 800 block of Linden Ave\, Carpinteria\, CA\, 93013\, United States
CATEGORIES:Farmers Market
ATTACH;FMTTYPE=image/jpeg:https://sbcfoodaction.org/wp-content/uploads/2021/01/carpfm.jpg
ORGANIZER;CN="Santa Barbara Certified Farmers Market Association":MAILTO:sbcfma@rain.org
END:VEVENT
BEGIN:VEVENT
DTSTART;TZID=America/Los_Angeles:20210415T150000
DTEND;TZID=America/Los_Angeles:20210415T180000
DTSTAMP:20260423T103454
CREATED:20210129T181041Z
LAST-MODIFIED:20230602T201656Z
UID:10010585-1618498800-1618509600@sbcfoodaction.org
SUMMARY:Carpinteria Farmers Market
DESCRIPTION:The Santa Barbara Certified Farmers’ Market is a fresh produce driven\, outdoor market of over 120 members. The market has been in existence for over 30 years and includes 6 local locations. The markets serve to strengthen the local communities ties and will help to provide weekly events at no cost while enhancing our community’s quality of life. Each week the farmers in the marketplace display a colorful bounty of agricultural products grown right in our backyard. Seasonal diversity is available year round rain or shine.
URL:https://sbcfoodaction.org/community-calendar/carpinteria-farmers-market-3/2021-04-15/
LOCATION:Downtown Carpinteria\, 800 block of Linden Ave\, Carpinteria\, CA\, 93013\, United States
CATEGORIES:Farmers Market
ATTACH;FMTTYPE=image/jpeg:https://sbcfoodaction.org/wp-content/uploads/2021/01/carpfm.jpg
ORGANIZER;CN="Santa Barbara Certified Farmers Market Association":MAILTO:sbcfma@rain.org
END:VEVENT
BEGIN:VEVENT
DTSTART;TZID=America/Los_Angeles:20210408T150000
DTEND;TZID=America/Los_Angeles:20210408T180000
DTSTAMP:20260423T103454
CREATED:20210129T181041Z
LAST-MODIFIED:20230602T201656Z
UID:10010584-1617894000-1617904800@sbcfoodaction.org
SUMMARY:Carpinteria Farmers Market
DESCRIPTION:The Santa Barbara Certified Farmers’ Market is a fresh produce driven\, outdoor market of over 120 members. The market has been in existence for over 30 years and includes 6 local locations. The markets serve to strengthen the local communities ties and will help to provide weekly events at no cost while enhancing our community’s quality of life. Each week the farmers in the marketplace display a colorful bounty of agricultural products grown right in our backyard. Seasonal diversity is available year round rain or shine.
URL:https://sbcfoodaction.org/community-calendar/carpinteria-farmers-market-3/2021-04-08/
LOCATION:Downtown Carpinteria\, 800 block of Linden Ave\, Carpinteria\, CA\, 93013\, United States
CATEGORIES:Farmers Market
ATTACH;FMTTYPE=image/jpeg:https://sbcfoodaction.org/wp-content/uploads/2021/01/carpfm.jpg
ORGANIZER;CN="Santa Barbara Certified Farmers Market Association":MAILTO:sbcfma@rain.org
END:VEVENT
BEGIN:VEVENT
DTSTART;TZID=America/Los_Angeles:20210401T150000
DTEND;TZID=America/Los_Angeles:20210401T180000
DTSTAMP:20260423T103454
CREATED:20210129T181041Z
LAST-MODIFIED:20230602T201656Z
UID:10010583-1617289200-1617300000@sbcfoodaction.org
SUMMARY:Carpinteria Farmers Market
DESCRIPTION:The Santa Barbara Certified Farmers’ Market is a fresh produce driven\, outdoor market of over 120 members. The market has been in existence for over 30 years and includes 6 local locations. The markets serve to strengthen the local communities ties and will help to provide weekly events at no cost while enhancing our community’s quality of life. Each week the farmers in the marketplace display a colorful bounty of agricultural products grown right in our backyard. Seasonal diversity is available year round rain or shine.
URL:https://sbcfoodaction.org/community-calendar/carpinteria-farmers-market-3/2021-04-01/
LOCATION:Downtown Carpinteria\, 800 block of Linden Ave\, Carpinteria\, CA\, 93013\, United States
CATEGORIES:Farmers Market
ATTACH;FMTTYPE=image/jpeg:https://sbcfoodaction.org/wp-content/uploads/2021/01/carpfm.jpg
ORGANIZER;CN="Santa Barbara Certified Farmers Market Association":MAILTO:sbcfma@rain.org
END:VEVENT
BEGIN:VEVENT
DTSTART;TZID=America/Los_Angeles:20210325T150000
DTEND;TZID=America/Los_Angeles:20210325T180000
DTSTAMP:20260423T103454
CREATED:20210129T181041Z
LAST-MODIFIED:20230602T201656Z
UID:10010582-1616684400-1616695200@sbcfoodaction.org
SUMMARY:Carpinteria Farmers Market
DESCRIPTION:The Santa Barbara Certified Farmers’ Market is a fresh produce driven\, outdoor market of over 120 members. The market has been in existence for over 30 years and includes 6 local locations. The markets serve to strengthen the local communities ties and will help to provide weekly events at no cost while enhancing our community’s quality of life. Each week the farmers in the marketplace display a colorful bounty of agricultural products grown right in our backyard. Seasonal diversity is available year round rain or shine.
URL:https://sbcfoodaction.org/community-calendar/carpinteria-farmers-market-3/2021-03-25/
LOCATION:Downtown Carpinteria\, 800 block of Linden Ave\, Carpinteria\, CA\, 93013\, United States
CATEGORIES:Farmers Market
ATTACH;FMTTYPE=image/jpeg:https://sbcfoodaction.org/wp-content/uploads/2021/01/carpfm.jpg
ORGANIZER;CN="Santa Barbara Certified Farmers Market Association":MAILTO:sbcfma@rain.org
END:VEVENT
BEGIN:VEVENT
DTSTART;TZID=America/Los_Angeles:20210318T150000
DTEND;TZID=America/Los_Angeles:20210318T180000
DTSTAMP:20260423T103454
CREATED:20210129T181041Z
LAST-MODIFIED:20230602T201656Z
UID:10010581-1616079600-1616090400@sbcfoodaction.org
SUMMARY:Carpinteria Farmers Market
DESCRIPTION:The Santa Barbara Certified Farmers’ Market is a fresh produce driven\, outdoor market of over 120 members. The market has been in existence for over 30 years and includes 6 local locations. The markets serve to strengthen the local communities ties and will help to provide weekly events at no cost while enhancing our community’s quality of life. Each week the farmers in the marketplace display a colorful bounty of agricultural products grown right in our backyard. Seasonal diversity is available year round rain or shine.
URL:https://sbcfoodaction.org/community-calendar/carpinteria-farmers-market-3/2021-03-18/
LOCATION:Downtown Carpinteria\, 800 block of Linden Ave\, Carpinteria\, CA\, 93013\, United States
CATEGORIES:Farmers Market
ATTACH;FMTTYPE=image/jpeg:https://sbcfoodaction.org/wp-content/uploads/2021/01/carpfm.jpg
ORGANIZER;CN="Santa Barbara Certified Farmers Market Association":MAILTO:sbcfma@rain.org
END:VEVENT
BEGIN:VEVENT
DTSTART;TZID=America/Los_Angeles:20210311T150000
DTEND;TZID=America/Los_Angeles:20210311T180000
DTSTAMP:20260423T103454
CREATED:20210129T181041Z
LAST-MODIFIED:20230602T201656Z
UID:10010580-1615474800-1615485600@sbcfoodaction.org
SUMMARY:Carpinteria Farmers Market
DESCRIPTION:The Santa Barbara Certified Farmers’ Market is a fresh produce driven\, outdoor market of over 120 members. The market has been in existence for over 30 years and includes 6 local locations. The markets serve to strengthen the local communities ties and will help to provide weekly events at no cost while enhancing our community’s quality of life. Each week the farmers in the marketplace display a colorful bounty of agricultural products grown right in our backyard. Seasonal diversity is available year round rain or shine.
URL:https://sbcfoodaction.org/community-calendar/carpinteria-farmers-market-3/2021-03-11/
LOCATION:Downtown Carpinteria\, 800 block of Linden Ave\, Carpinteria\, CA\, 93013\, United States
CATEGORIES:Farmers Market
ATTACH;FMTTYPE=image/jpeg:https://sbcfoodaction.org/wp-content/uploads/2021/01/carpfm.jpg
ORGANIZER;CN="Santa Barbara Certified Farmers Market Association":MAILTO:sbcfma@rain.org
END:VEVENT
BEGIN:VEVENT
DTSTART;TZID=America/Los_Angeles:20210304T150000
DTEND;TZID=America/Los_Angeles:20210304T180000
DTSTAMP:20260423T103454
CREATED:20210129T181041Z
LAST-MODIFIED:20230602T201656Z
UID:10010579-1614870000-1614880800@sbcfoodaction.org
SUMMARY:Carpinteria Farmers Market
DESCRIPTION:The Santa Barbara Certified Farmers’ Market is a fresh produce driven\, outdoor market of over 120 members. The market has been in existence for over 30 years and includes 6 local locations. The markets serve to strengthen the local communities ties and will help to provide weekly events at no cost while enhancing our community’s quality of life. Each week the farmers in the marketplace display a colorful bounty of agricultural products grown right in our backyard. Seasonal diversity is available year round rain or shine.
URL:https://sbcfoodaction.org/community-calendar/carpinteria-farmers-market-3/2021-03-04/
LOCATION:Downtown Carpinteria\, 800 block of Linden Ave\, Carpinteria\, CA\, 93013\, United States
CATEGORIES:Farmers Market
ATTACH;FMTTYPE=image/jpeg:https://sbcfoodaction.org/wp-content/uploads/2021/01/carpfm.jpg
ORGANIZER;CN="Santa Barbara Certified Farmers Market Association":MAILTO:sbcfma@rain.org
END:VEVENT
BEGIN:VEVENT
DTSTART;TZID=America/Los_Angeles:20210225T150000
DTEND;TZID=America/Los_Angeles:20210225T180000
DTSTAMP:20260423T103454
CREATED:20210129T181041Z
LAST-MODIFIED:20230602T201656Z
UID:10010578-1614265200-1614276000@sbcfoodaction.org
SUMMARY:Carpinteria Farmers Market
DESCRIPTION:The Santa Barbara Certified Farmers’ Market is a fresh produce driven\, outdoor market of over 120 members. The market has been in existence for over 30 years and includes 6 local locations. The markets serve to strengthen the local communities ties and will help to provide weekly events at no cost while enhancing our community’s quality of life. Each week the farmers in the marketplace display a colorful bounty of agricultural products grown right in our backyard. Seasonal diversity is available year round rain or shine.
URL:https://sbcfoodaction.org/community-calendar/carpinteria-farmers-market-3/2021-02-25/
LOCATION:Downtown Carpinteria\, 800 block of Linden Ave\, Carpinteria\, CA\, 93013\, United States
CATEGORIES:Farmers Market
ATTACH;FMTTYPE=image/jpeg:https://sbcfoodaction.org/wp-content/uploads/2021/01/carpfm.jpg
ORGANIZER;CN="Santa Barbara Certified Farmers Market Association":MAILTO:sbcfma@rain.org
END:VEVENT
BEGIN:VEVENT
DTSTART;TZID=America/Los_Angeles:20210218T150000
DTEND;TZID=America/Los_Angeles:20210218T180000
DTSTAMP:20260423T103454
CREATED:20210129T181041Z
LAST-MODIFIED:20230602T201656Z
UID:10010577-1613660400-1613671200@sbcfoodaction.org
SUMMARY:Carpinteria Farmers Market
DESCRIPTION:The Santa Barbara Certified Farmers’ Market is a fresh produce driven\, outdoor market of over 120 members. The market has been in existence for over 30 years and includes 6 local locations. The markets serve to strengthen the local communities ties and will help to provide weekly events at no cost while enhancing our community’s quality of life. Each week the farmers in the marketplace display a colorful bounty of agricultural products grown right in our backyard. Seasonal diversity is available year round rain or shine.
URL:https://sbcfoodaction.org/community-calendar/carpinteria-farmers-market-3/2021-02-18/
LOCATION:Downtown Carpinteria\, 800 block of Linden Ave\, Carpinteria\, CA\, 93013\, United States
CATEGORIES:Farmers Market
ATTACH;FMTTYPE=image/jpeg:https://sbcfoodaction.org/wp-content/uploads/2021/01/carpfm.jpg
ORGANIZER;CN="Santa Barbara Certified Farmers Market Association":MAILTO:sbcfma@rain.org
END:VEVENT
BEGIN:VEVENT
DTSTART;TZID=America/Los_Angeles:20210211T150000
DTEND;TZID=America/Los_Angeles:20210211T180000
DTSTAMP:20260423T103454
CREATED:20210129T181041Z
LAST-MODIFIED:20230602T201656Z
UID:10010576-1613055600-1613066400@sbcfoodaction.org
SUMMARY:Carpinteria Farmers Market
DESCRIPTION:The Santa Barbara Certified Farmers’ Market is a fresh produce driven\, outdoor market of over 120 members. The market has been in existence for over 30 years and includes 6 local locations. The markets serve to strengthen the local communities ties and will help to provide weekly events at no cost while enhancing our community’s quality of life. Each week the farmers in the marketplace display a colorful bounty of agricultural products grown right in our backyard. Seasonal diversity is available year round rain or shine.
URL:https://sbcfoodaction.org/community-calendar/carpinteria-farmers-market-3/2021-02-11/
LOCATION:Downtown Carpinteria\, 800 block of Linden Ave\, Carpinteria\, CA\, 93013\, United States
CATEGORIES:Farmers Market
ATTACH;FMTTYPE=image/jpeg:https://sbcfoodaction.org/wp-content/uploads/2021/01/carpfm.jpg
ORGANIZER;CN="Santa Barbara Certified Farmers Market Association":MAILTO:sbcfma@rain.org
END:VEVENT
BEGIN:VEVENT
DTSTART;TZID=America/Los_Angeles:20210204T150000
DTEND;TZID=America/Los_Angeles:20210204T180000
DTSTAMP:20260423T103454
CREATED:20210129T181041Z
LAST-MODIFIED:20230602T201656Z
UID:10010575-1612450800-1612461600@sbcfoodaction.org
SUMMARY:Carpinteria Farmers Market
DESCRIPTION:The Santa Barbara Certified Farmers’ Market is a fresh produce driven\, outdoor market of over 120 members. The market has been in existence for over 30 years and includes 6 local locations. The markets serve to strengthen the local communities ties and will help to provide weekly events at no cost while enhancing our community’s quality of life. Each week the farmers in the marketplace display a colorful bounty of agricultural products grown right in our backyard. Seasonal diversity is available year round rain or shine.
URL:https://sbcfoodaction.org/community-calendar/carpinteria-farmers-market-3/2021-02-04/
LOCATION:Downtown Carpinteria\, 800 block of Linden Ave\, Carpinteria\, CA\, 93013\, United States
CATEGORIES:Farmers Market
ATTACH;FMTTYPE=image/jpeg:https://sbcfoodaction.org/wp-content/uploads/2021/01/carpfm.jpg
ORGANIZER;CN="Santa Barbara Certified Farmers Market Association":MAILTO:sbcfma@rain.org
END:VEVENT
BEGIN:VEVENT
DTSTART;TZID=America/Los_Angeles:20210128T150000
DTEND;TZID=America/Los_Angeles:20210128T180000
DTSTAMP:20260423T103454
CREATED:20210129T181041Z
LAST-MODIFIED:20230602T201656Z
UID:10010574-1611846000-1611856800@sbcfoodaction.org
SUMMARY:Carpinteria Farmers Market
DESCRIPTION:The Santa Barbara Certified Farmers’ Market is a fresh produce driven\, outdoor market of over 120 members. The market has been in existence for over 30 years and includes 6 local locations. The markets serve to strengthen the local communities ties and will help to provide weekly events at no cost while enhancing our community’s quality of life. Each week the farmers in the marketplace display a colorful bounty of agricultural products grown right in our backyard. Seasonal diversity is available year round rain or shine.
URL:https://sbcfoodaction.org/community-calendar/carpinteria-farmers-market-3/2021-01-28/
LOCATION:Downtown Carpinteria\, 800 block of Linden Ave\, Carpinteria\, CA\, 93013\, United States
CATEGORIES:Farmers Market
ATTACH;FMTTYPE=image/jpeg:https://sbcfoodaction.org/wp-content/uploads/2021/01/carpfm.jpg
ORGANIZER;CN="Santa Barbara Certified Farmers Market Association":MAILTO:sbcfma@rain.org
END:VEVENT
END:VCALENDAR