BEGIN:VCALENDAR
VERSION:2.0
PRODID:-//Santa Barbara County Food Action Network - ECPv6.15.20//NONSGML v1.0//EN
CALSCALE:GREGORIAN
METHOD:PUBLISH
X-ORIGINAL-URL:https://sbcfoodaction.org
X-WR-CALDESC:Events for Santa Barbara County Food Action Network
REFRESH-INTERVAL;VALUE=DURATION:PT1H
X-Robots-Tag:noindex
X-PUBLISHED-TTL:PT1H
BEGIN:VTIMEZONE
TZID:America/Los_Angeles
BEGIN:DAYLIGHT
TZOFFSETFROM:-0800
TZOFFSETTO:-0700
TZNAME:PDT
DTSTART:20200308T100000
END:DAYLIGHT
BEGIN:STANDARD
TZOFFSETFROM:-0700
TZOFFSETTO:-0800
TZNAME:PST
DTSTART:20201101T090000
END:STANDARD
BEGIN:DAYLIGHT
TZOFFSETFROM:-0800
TZOFFSETTO:-0700
TZNAME:PDT
DTSTART:20210314T100000
END:DAYLIGHT
BEGIN:STANDARD
TZOFFSETFROM:-0700
TZOFFSETTO:-0800
TZNAME:PST
DTSTART:20211107T090000
END:STANDARD
BEGIN:DAYLIGHT
TZOFFSETFROM:-0800
TZOFFSETTO:-0700
TZNAME:PDT
DTSTART:20220313T100000
END:DAYLIGHT
BEGIN:STANDARD
TZOFFSETFROM:-0700
TZOFFSETTO:-0800
TZNAME:PST
DTSTART:20221106T090000
END:STANDARD
BEGIN:DAYLIGHT
TZOFFSETFROM:-0800
TZOFFSETTO:-0700
TZNAME:PDT
DTSTART:20230312T100000
END:DAYLIGHT
BEGIN:STANDARD
TZOFFSETFROM:-0700
TZOFFSETTO:-0800
TZNAME:PST
DTSTART:20231105T090000
END:STANDARD
END:VTIMEZONE
BEGIN:VEVENT
DTSTART;TZID=America/Los_Angeles:20220924T180000
DTEND;TZID=America/Los_Angeles:20220924T203000
DTSTAMP:20260423T002533
CREATED:20220831T193824Z
LAST-MODIFIED:20220831T193833Z
UID:10016098-1664042400-1664051400@sbcfoodaction.org
SUMMARY:Under the Oak Tree - Live Concert at Restoration Oaks Ranch
DESCRIPTION:Join us Saturday\, September 24th for our first ever live concert on the Restoration Oaks Ranch house lawn. Local musicians Elijah Edwards\, whose songs have received over 40 million plays on Apple Music and Spotify\, and Jackson Gillies\, a prominent American Idol contestant\, will provide the entertainment. \nJoin us in a beautiful outdoor setting for a unique evening of music. For more info\, browse to http://restorationoaksranch.com/ and follow the links. \nAdmission: $30/Ticket\nFood Provided By Sassafras 805\nWine & Beer for Sale \nGates open at 6:00 p.m. Music Starts at 7:00 p.m. \nBring your own lawn chair or blanket. Space is limited!
URL:https://sbcfoodaction.org/community-calendar/under-the-oak-tree-live-concert-at-restoration-oaks/
LOCATION:Restoration Oaks Ranch\, 1980 US Highway 101\, Gaviota\, California\, 93117\, United States
END:VEVENT
BEGIN:VEVENT
DTSTART;TZID=America/Los_Angeles:20211019T160000
DTEND;TZID=America/Los_Angeles:20211019T173000
DTSTAMP:20260423T002534
CREATED:20210917T180158Z
LAST-MODIFIED:20210917T180158Z
UID:10015794-1634659200-1634664600@sbcfoodaction.org
SUMMARY:Wild Tarantula Trails at Restoration Oaks Ranch
DESCRIPTION:This fall Wild Farm Lands Foundation will lead eight public hikes\, starting on September 28th. Learn more about common California tarantulas. Tickets are $5.00 each. Children 3 and under are free. Limited number of guests per hike and stay separated in family/friend groups as we can. All ages welcome. Learn more and sign up.
URL:https://sbcfoodaction.org/community-calendar/wild-tarantula-trails-at-restoration-oaks-ranch/2021-10-19/
LOCATION:Restoration Oaks Ranch\, 1980 US Highway 101\, Gaviota\, California\, 93117\, United States
END:VEVENT
BEGIN:VEVENT
DTSTART;TZID=America/Los_Angeles:20211014T160000
DTEND;TZID=America/Los_Angeles:20211014T173000
DTSTAMP:20260423T002534
CREATED:20210917T180158Z
LAST-MODIFIED:20210917T180158Z
UID:10015793-1634227200-1634232600@sbcfoodaction.org
SUMMARY:Wild Tarantula Trails at Restoration Oaks Ranch
DESCRIPTION:This fall Wild Farm Lands Foundation will lead eight public hikes\, starting on September 28th. Learn more about common California tarantulas. Tickets are $5.00 each. Children 3 and under are free. Limited number of guests per hike and stay separated in family/friend groups as we can. All ages welcome. Learn more and sign up.
URL:https://sbcfoodaction.org/community-calendar/wild-tarantula-trails-at-restoration-oaks-ranch/2021-10-14/
LOCATION:Restoration Oaks Ranch\, 1980 US Highway 101\, Gaviota\, California\, 93117\, United States
END:VEVENT
BEGIN:VEVENT
DTSTART;TZID=America/Los_Angeles:20211010T160000
DTEND;TZID=America/Los_Angeles:20211010T173000
DTSTAMP:20260423T002534
CREATED:20210917T180158Z
LAST-MODIFIED:20210917T180158Z
UID:10015792-1633881600-1633887000@sbcfoodaction.org
SUMMARY:Wild Tarantula Trails at Restoration Oaks Ranch
DESCRIPTION:This fall Wild Farm Lands Foundation will lead eight public hikes\, starting on September 28th. Learn more about common California tarantulas. Tickets are $5.00 each. Children 3 and under are free. Limited number of guests per hike and stay separated in family/friend groups as we can. All ages welcome. Learn more and sign up.
URL:https://sbcfoodaction.org/community-calendar/wild-tarantula-trails-at-restoration-oaks-ranch/2021-10-10/
LOCATION:Restoration Oaks Ranch\, 1980 US Highway 101\, Gaviota\, California\, 93117\, United States
END:VEVENT
BEGIN:VEVENT
DTSTART;TZID=America/Los_Angeles:20211007T160000
DTEND;TZID=America/Los_Angeles:20211007T173000
DTSTAMP:20260423T002534
CREATED:20210917T180158Z
LAST-MODIFIED:20210917T180158Z
UID:10015791-1633622400-1633627800@sbcfoodaction.org
SUMMARY:Wild Tarantula Trails at Restoration Oaks Ranch
DESCRIPTION:This fall Wild Farm Lands Foundation will lead eight public hikes\, starting on September 28th. Learn more about common California tarantulas. Tickets are $5.00 each. Children 3 and under are free. Limited number of guests per hike and stay separated in family/friend groups as we can. All ages welcome. Learn more and sign up.
URL:https://sbcfoodaction.org/community-calendar/wild-tarantula-trails-at-restoration-oaks-ranch/2021-10-07/
LOCATION:Restoration Oaks Ranch\, 1980 US Highway 101\, Gaviota\, California\, 93117\, United States
END:VEVENT
BEGIN:VEVENT
DTSTART;TZID=America/Los_Angeles:20211002T160000
DTEND;TZID=America/Los_Angeles:20211002T173000
DTSTAMP:20260423T002534
CREATED:20210917T180158Z
LAST-MODIFIED:20210917T180158Z
UID:10015790-1633190400-1633195800@sbcfoodaction.org
SUMMARY:Wild Tarantula Trails at Restoration Oaks Ranch
DESCRIPTION:This fall Wild Farm Lands Foundation will lead eight public hikes\, starting on September 28th. Learn more about common California tarantulas. Tickets are $5.00 each. Children 3 and under are free. Limited number of guests per hike and stay separated in family/friend groups as we can. All ages welcome. Learn more and sign up.
URL:https://sbcfoodaction.org/community-calendar/wild-tarantula-trails-at-restoration-oaks-ranch/2021-10-02/
LOCATION:Restoration Oaks Ranch\, 1980 US Highway 101\, Gaviota\, California\, 93117\, United States
END:VEVENT
BEGIN:VEVENT
DTSTART;TZID=America/Los_Angeles:20210928T160000
DTEND;TZID=America/Los_Angeles:20210928T173000
DTSTAMP:20260423T002534
CREATED:20210917T180158Z
LAST-MODIFIED:20210917T180158Z
UID:10015789-1632844800-1632850200@sbcfoodaction.org
SUMMARY:Wild Tarantula Trails at Restoration Oaks Ranch
DESCRIPTION:This fall Wild Farm Lands Foundation will lead eight public hikes\, starting on September 28th. Learn more about common California tarantulas. Tickets are $5.00 each. Children 3 and under are free. Limited number of guests per hike and stay separated in family/friend groups as we can. All ages welcome. Learn more and sign up.
URL:https://sbcfoodaction.org/community-calendar/wild-tarantula-trails-at-restoration-oaks-ranch/2021-09-28/
LOCATION:Restoration Oaks Ranch\, 1980 US Highway 101\, Gaviota\, California\, 93117\, United States
END:VEVENT
END:VCALENDAR